BEGIN:VCALENDAR
VERSION:2.0
PRODID:-//The Kelly - ECPv6.15.20//NONSGML v1.0//EN
CALSCALE:GREGORIAN
METHOD:PUBLISH
X-WR-CALNAME:The Kelly
X-ORIGINAL-URL:https://thekelly.org
X-WR-CALDESC:Events for The Kelly
REFRESH-INTERVAL;VALUE=DURATION:PT1H
X-Robots-Tag:noindex
X-PUBLISHED-TTL:PT1H
BEGIN:VTIMEZONE
TZID:America/Chicago
BEGIN:DAYLIGHT
TZOFFSETFROM:-0600
TZOFFSETTO:-0500
TZNAME:CDT
DTSTART:20250309T080000
END:DAYLIGHT
BEGIN:STANDARD
TZOFFSETFROM:-0500
TZOFFSETTO:-0600
TZNAME:CST
DTSTART:20251102T070000
END:STANDARD
BEGIN:DAYLIGHT
TZOFFSETFROM:-0600
TZOFFSETTO:-0500
TZNAME:CDT
DTSTART:20260308T080000
END:DAYLIGHT
BEGIN:STANDARD
TZOFFSETFROM:-0500
TZOFFSETTO:-0600
TZNAME:CST
DTSTART:20261101T070000
END:STANDARD
BEGIN:DAYLIGHT
TZOFFSETFROM:-0600
TZOFFSETTO:-0500
TZNAME:CDT
DTSTART:20270314T080000
END:DAYLIGHT
BEGIN:STANDARD
TZOFFSETFROM:-0500
TZOFFSETTO:-0600
TZNAME:CST
DTSTART:20271107T070000
END:STANDARD
END:VTIMEZONE
BEGIN:VEVENT
DTSTART;TZID=America/Chicago:20260828T100000
DTEND;TZID=America/Chicago:20260828T130000
DTSTAMP:20260422T032418
CREATED:20250123T222429Z
LAST-MODIFIED:20251223T195635Z
UID:10001044-1787911200-1787922000@thekelly.org
SUMMARY:Morning Sketch
DESCRIPTION:Every Friday\, we invite everyone and anyone to come “sketch” in the gallery and on the porch! New and experienced artists (or authors or craftsmen) alike can pull up a chair\, sit on the porch\, and indulge in the arts. Enjoy fellow artists’ company\, enjoy the view\, and come sketch with us!
URL:https://thekelly.org/event/morning-sketch-4/2026-08-28/
LOCATION:The Kelly Fitzpatrick Center for the Arts\, 301 Hill Street\, Wetumpka\, AL\, 36092
CATEGORIES:Adult Programs
ATTACH;FMTTYPE=image/webp:https://thekelly.org/wp-content/uploads/2024/03/Morning-Sketch-4-e1737670831822.webp
END:VEVENT
BEGIN:VEVENT
DTSTART;TZID=America/Chicago:20260904T100000
DTEND;TZID=America/Chicago:20260904T130000
DTSTAMP:20260422T032418
CREATED:20250123T222429Z
LAST-MODIFIED:20251223T195635Z
UID:10001045-1788516000-1788526800@thekelly.org
SUMMARY:Morning Sketch
DESCRIPTION:Every Friday\, we invite everyone and anyone to come “sketch” in the gallery and on the porch! New and experienced artists (or authors or craftsmen) alike can pull up a chair\, sit on the porch\, and indulge in the arts. Enjoy fellow artists’ company\, enjoy the view\, and come sketch with us!
URL:https://thekelly.org/event/morning-sketch-4/2026-09-04/
LOCATION:The Kelly Fitzpatrick Center for the Arts\, 301 Hill Street\, Wetumpka\, AL\, 36092
CATEGORIES:Adult Programs
ATTACH;FMTTYPE=image/webp:https://thekelly.org/wp-content/uploads/2024/03/Morning-Sketch-4-e1737670831822.webp
END:VEVENT
BEGIN:VEVENT
DTSTART;TZID=America/Chicago:20260911T100000
DTEND;TZID=America/Chicago:20260911T130000
DTSTAMP:20260422T032418
CREATED:20250123T222429Z
LAST-MODIFIED:20251223T195635Z
UID:10001046-1789120800-1789131600@thekelly.org
SUMMARY:Morning Sketch
DESCRIPTION:Every Friday\, we invite everyone and anyone to come “sketch” in the gallery and on the porch! New and experienced artists (or authors or craftsmen) alike can pull up a chair\, sit on the porch\, and indulge in the arts. Enjoy fellow artists’ company\, enjoy the view\, and come sketch with us!
URL:https://thekelly.org/event/morning-sketch-4/2026-09-11/
LOCATION:The Kelly Fitzpatrick Center for the Arts\, 301 Hill Street\, Wetumpka\, AL\, 36092
CATEGORIES:Adult Programs
ATTACH;FMTTYPE=image/webp:https://thekelly.org/wp-content/uploads/2024/03/Morning-Sketch-4-e1737670831822.webp
END:VEVENT
BEGIN:VEVENT
DTSTART;TZID=America/Chicago:20260915T120000
DTEND;TZID=America/Chicago:20260915T130000
DTSTAMP:20260422T032418
CREATED:20260204T173942Z
LAST-MODIFIED:20260204T173942Z
UID:10001466-1789473600-1789477200@thekelly.org
SUMMARY:Tuesdays with Kelly
DESCRIPTION:Join us for our monthly lunch and learn program from noon until 1:00pm at The Kelly.  Learn more about this month’s program at https://thekelly.org/twk/ \nBring your lunch\, and The Kelly will provide drinks and a dessert.  We hope to see you there!
URL:https://thekelly.org/event/tuesdays-with-kelly-7/2026-09-15/
LOCATION:The Kelly Fitzpatrick Center for the Arts\, 301 Hill Street\, Wetumpka\, AL\, 36092
CATEGORIES:Tuesday with Kelly
ATTACH;FMTTYPE=image/webp:https://thekelly.org/wp-content/uploads/2023/12/TuesdaysWithKelly_Logo-e1709829061227.webp
END:VEVENT
BEGIN:VEVENT
DTSTART;TZID=America/Chicago:20260916T100000
DTEND;TZID=America/Chicago:20260916T110000
DTSTAMP:20260422T032418
CREATED:20260121T173948Z
LAST-MODIFIED:20260121T173948Z
UID:10001436-1789552800-1789556400@thekelly.org
SUMMARY:Art Start: Pre-School Art Program
DESCRIPTION:Art Start is a Kelly’s Kids arts-and-crafts program designed for pre-school children. We provide the supplies at no charge. No need to pre-register\, just have your kiddos bring their imaginations!
URL:https://thekelly.org/event/art-start-5/2026-09-16/
LOCATION:The Kelly Fitzpatrick Center for the Arts\, 301 Hill Street\, Wetumpka\, AL\, 36092
CATEGORIES:"Kelly's Kids",Children Programs
ATTACH;FMTTYPE=image/webp:https://thekelly.org/wp-content/uploads/2026/01/Art-Start-Cover-e1769016962627.webp
END:VEVENT
BEGIN:VEVENT
DTSTART;TZID=America/Chicago:20260918T100000
DTEND;TZID=America/Chicago:20260918T130000
DTSTAMP:20260422T032418
CREATED:20250123T222429Z
LAST-MODIFIED:20251223T195635Z
UID:10001047-1789725600-1789736400@thekelly.org
SUMMARY:Morning Sketch
DESCRIPTION:Every Friday\, we invite everyone and anyone to come “sketch” in the gallery and on the porch! New and experienced artists (or authors or craftsmen) alike can pull up a chair\, sit on the porch\, and indulge in the arts. Enjoy fellow artists’ company\, enjoy the view\, and come sketch with us!
URL:https://thekelly.org/event/morning-sketch-4/2026-09-18/
LOCATION:The Kelly Fitzpatrick Center for the Arts\, 301 Hill Street\, Wetumpka\, AL\, 36092
CATEGORIES:Adult Programs
ATTACH;FMTTYPE=image/webp:https://thekelly.org/wp-content/uploads/2024/03/Morning-Sketch-4-e1737670831822.webp
END:VEVENT
BEGIN:VEVENT
DTSTART;TZID=America/Chicago:20260925T100000
DTEND;TZID=America/Chicago:20260925T130000
DTSTAMP:20260422T032418
CREATED:20250123T222429Z
LAST-MODIFIED:20251223T195635Z
UID:10001048-1790330400-1790341200@thekelly.org
SUMMARY:Morning Sketch
DESCRIPTION:Every Friday\, we invite everyone and anyone to come “sketch” in the gallery and on the porch! New and experienced artists (or authors or craftsmen) alike can pull up a chair\, sit on the porch\, and indulge in the arts. Enjoy fellow artists’ company\, enjoy the view\, and come sketch with us!
URL:https://thekelly.org/event/morning-sketch-4/2026-09-25/
LOCATION:The Kelly Fitzpatrick Center for the Arts\, 301 Hill Street\, Wetumpka\, AL\, 36092
CATEGORIES:Adult Programs
ATTACH;FMTTYPE=image/webp:https://thekelly.org/wp-content/uploads/2024/03/Morning-Sketch-4-e1737670831822.webp
END:VEVENT
BEGIN:VEVENT
DTSTART;TZID=America/Chicago:20261002T100000
DTEND;TZID=America/Chicago:20261002T130000
DTSTAMP:20260422T032418
CREATED:20250123T222429Z
LAST-MODIFIED:20251223T195635Z
UID:10001049-1790935200-1790946000@thekelly.org
SUMMARY:Morning Sketch
DESCRIPTION:Every Friday\, we invite everyone and anyone to come “sketch” in the gallery and on the porch! New and experienced artists (or authors or craftsmen) alike can pull up a chair\, sit on the porch\, and indulge in the arts. Enjoy fellow artists’ company\, enjoy the view\, and come sketch with us!
URL:https://thekelly.org/event/morning-sketch-4/2026-10-02/
LOCATION:The Kelly Fitzpatrick Center for the Arts\, 301 Hill Street\, Wetumpka\, AL\, 36092
CATEGORIES:Adult Programs
ATTACH;FMTTYPE=image/webp:https://thekelly.org/wp-content/uploads/2024/03/Morning-Sketch-4-e1737670831822.webp
END:VEVENT
BEGIN:VEVENT
DTSTART;TZID=America/Chicago:20261008T100000
DTEND;TZID=America/Chicago:20261008T160000
DTSTAMP:20260422T032418
CREATED:20260120T184506Z
LAST-MODIFIED:20260120T185203Z
UID:10001422-1791453600-1791475200@thekelly.org
SUMMARY:From Snout to Tail: Painting Canine Companions (3-Day Workshop)
DESCRIPTION:Have you ever wanted to paint a beloved pet or learn the trick behind painting animals\, specifically dogs?  This workshop will be a study on painting dogs with a high concentration on accurate value judgement and the handling of edges of fur\, whether soft or sharper. Come learn from an experienced animal portraiture artist! \n\nRecommended Skill Level:  Intermediate\nCost:  $425 for Kelly members OR $450 for non-members\nBasic Supplies included (Limited Color Palette) – Instructor palette and supplies list TBD. Basic Kelly studio supplies will also be available.\nClass Size:  Minimum 4 – Maximum of 15\n\n<<Register Here>>\nInterested in Kelly member discounts on classes? Membership starts at only $50 for an entire year! \n  \nInstructor Johnna Bush Portfolio:\nhttps://www.johnnalarrimorebush.com/
URL:https://thekelly.org/event/from-snout-to-tail/2026-10-08/
LOCATION:The Kelly Fitzpatrick Center for the Arts\, 301 Hill Street\, Wetumpka\, AL\, 36092
CATEGORIES:Art Workshops
ATTACH;FMTTYPE=image/png:https://thekelly.org/wp-content/uploads/2026/01/Snout-to-Tail-Cover-e1768934182926.png
END:VEVENT
BEGIN:VEVENT
DTSTART;TZID=America/Chicago:20261009T100000
DTEND;TZID=America/Chicago:20261009T130000
DTSTAMP:20260422T032418
CREATED:20250123T222429Z
LAST-MODIFIED:20251223T195635Z
UID:10001050-1791540000-1791550800@thekelly.org
SUMMARY:Morning Sketch
DESCRIPTION:Every Friday\, we invite everyone and anyone to come “sketch” in the gallery and on the porch! New and experienced artists (or authors or craftsmen) alike can pull up a chair\, sit on the porch\, and indulge in the arts. Enjoy fellow artists’ company\, enjoy the view\, and come sketch with us!
URL:https://thekelly.org/event/morning-sketch-4/2026-10-09/
LOCATION:The Kelly Fitzpatrick Center for the Arts\, 301 Hill Street\, Wetumpka\, AL\, 36092
CATEGORIES:Adult Programs
ATTACH;FMTTYPE=image/webp:https://thekelly.org/wp-content/uploads/2024/03/Morning-Sketch-4-e1737670831822.webp
END:VEVENT
BEGIN:VEVENT
DTSTART;TZID=America/Chicago:20261009T100000
DTEND;TZID=America/Chicago:20261009T160000
DTSTAMP:20260422T032418
CREATED:20260120T184506Z
LAST-MODIFIED:20260120T185203Z
UID:10001423-1791540000-1791561600@thekelly.org
SUMMARY:From Snout to Tail: Painting Canine Companions (3-Day Workshop)
DESCRIPTION:Have you ever wanted to paint a beloved pet or learn the trick behind painting animals\, specifically dogs?  This workshop will be a study on painting dogs with a high concentration on accurate value judgement and the handling of edges of fur\, whether soft or sharper. Come learn from an experienced animal portraiture artist! \n\nRecommended Skill Level:  Intermediate\nCost:  $425 for Kelly members OR $450 for non-members\nBasic Supplies included (Limited Color Palette) – Instructor palette and supplies list TBD. Basic Kelly studio supplies will also be available.\nClass Size:  Minimum 4 – Maximum of 15\n\n<<Register Here>>\nInterested in Kelly member discounts on classes? Membership starts at only $50 for an entire year! \n  \nInstructor Johnna Bush Portfolio:\nhttps://www.johnnalarrimorebush.com/
URL:https://thekelly.org/event/from-snout-to-tail/2026-10-09/
LOCATION:The Kelly Fitzpatrick Center for the Arts\, 301 Hill Street\, Wetumpka\, AL\, 36092
CATEGORIES:Art Workshops
ATTACH;FMTTYPE=image/png:https://thekelly.org/wp-content/uploads/2026/01/Snout-to-Tail-Cover-e1768934182926.png
END:VEVENT
BEGIN:VEVENT
DTSTART;TZID=America/Chicago:20261010T100000
DTEND;TZID=America/Chicago:20261010T150000
DTSTAMP:20260422T032418
CREATED:20260120T184506Z
LAST-MODIFIED:20260120T185203Z
UID:10001424-1791626400-1791644400@thekelly.org
SUMMARY:From Snout to Tail: Painting Canine Companions (3-Day Workshop)
DESCRIPTION:Have you ever wanted to paint a beloved pet or learn the trick behind painting animals\, specifically dogs?  This workshop will be a study on painting dogs with a high concentration on accurate value judgement and the handling of edges of fur\, whether soft or sharper. Come learn from an experienced animal portraiture artist! \n\nRecommended Skill Level:  Intermediate\nCost:  $425 for Kelly members OR $450 for non-members\nBasic Supplies included (Limited Color Palette) – Instructor palette and supplies list TBD. Basic Kelly studio supplies will also be available.\nClass Size:  Minimum 4 – Maximum of 15\n\n<<Register Here>>\nInterested in Kelly member discounts on classes? Membership starts at only $50 for an entire year! \n  \nInstructor Johnna Bush Portfolio:\nhttps://www.johnnalarrimorebush.com/
URL:https://thekelly.org/event/from-snout-to-tail/2026-10-10/
LOCATION:The Kelly Fitzpatrick Center for the Arts\, 301 Hill Street\, Wetumpka\, AL\, 36092
CATEGORIES:Art Workshops
ATTACH;FMTTYPE=image/png:https://thekelly.org/wp-content/uploads/2026/01/Snout-to-Tail-Cover-e1768934182926.png
END:VEVENT
BEGIN:VEVENT
DTSTART;TZID=America/Chicago:20261016T100000
DTEND;TZID=America/Chicago:20261016T130000
DTSTAMP:20260422T032418
CREATED:20250123T222429Z
LAST-MODIFIED:20251223T195635Z
UID:10001051-1792144800-1792155600@thekelly.org
SUMMARY:Morning Sketch
DESCRIPTION:Every Friday\, we invite everyone and anyone to come “sketch” in the gallery and on the porch! New and experienced artists (or authors or craftsmen) alike can pull up a chair\, sit on the porch\, and indulge in the arts. Enjoy fellow artists’ company\, enjoy the view\, and come sketch with us!
URL:https://thekelly.org/event/morning-sketch-4/2026-10-16/
LOCATION:The Kelly Fitzpatrick Center for the Arts\, 301 Hill Street\, Wetumpka\, AL\, 36092
CATEGORIES:Adult Programs
ATTACH;FMTTYPE=image/webp:https://thekelly.org/wp-content/uploads/2024/03/Morning-Sketch-4-e1737670831822.webp
END:VEVENT
BEGIN:VEVENT
DTSTART;TZID=America/Chicago:20261020T120000
DTEND;TZID=America/Chicago:20261020T130000
DTSTAMP:20260422T032418
CREATED:20260204T173942Z
LAST-MODIFIED:20260204T173942Z
UID:10001467-1792497600-1792501200@thekelly.org
SUMMARY:Tuesdays with Kelly
DESCRIPTION:Join us for our monthly lunch and learn program from noon until 1:00pm at The Kelly.  Learn more about this month’s program at https://thekelly.org/twk/ \nBring your lunch\, and The Kelly will provide drinks and a dessert.  We hope to see you there!
URL:https://thekelly.org/event/tuesdays-with-kelly-7/2026-10-20/
LOCATION:The Kelly Fitzpatrick Center for the Arts\, 301 Hill Street\, Wetumpka\, AL\, 36092
CATEGORIES:Tuesday with Kelly
ATTACH;FMTTYPE=image/webp:https://thekelly.org/wp-content/uploads/2023/12/TuesdaysWithKelly_Logo-e1709829061227.webp
END:VEVENT
BEGIN:VEVENT
DTSTART;TZID=America/Chicago:20261021T100000
DTEND;TZID=America/Chicago:20261021T110000
DTSTAMP:20260422T032418
CREATED:20260121T173948Z
LAST-MODIFIED:20260121T173948Z
UID:10001437-1792576800-1792580400@thekelly.org
SUMMARY:Art Start: Pre-School Art Program
DESCRIPTION:Art Start is a Kelly’s Kids arts-and-crafts program designed for pre-school children. We provide the supplies at no charge. No need to pre-register\, just have your kiddos bring their imaginations!
URL:https://thekelly.org/event/art-start-5/2026-10-21/
LOCATION:The Kelly Fitzpatrick Center for the Arts\, 301 Hill Street\, Wetumpka\, AL\, 36092
CATEGORIES:"Kelly's Kids",Children Programs
ATTACH;FMTTYPE=image/webp:https://thekelly.org/wp-content/uploads/2026/01/Art-Start-Cover-e1769016962627.webp
END:VEVENT
BEGIN:VEVENT
DTSTART;TZID=America/Chicago:20261023T100000
DTEND;TZID=America/Chicago:20261023T130000
DTSTAMP:20260422T032418
CREATED:20250123T222429Z
LAST-MODIFIED:20251223T195635Z
UID:10001052-1792749600-1792760400@thekelly.org
SUMMARY:Morning Sketch
DESCRIPTION:Every Friday\, we invite everyone and anyone to come “sketch” in the gallery and on the porch! New and experienced artists (or authors or craftsmen) alike can pull up a chair\, sit on the porch\, and indulge in the arts. Enjoy fellow artists’ company\, enjoy the view\, and come sketch with us!
URL:https://thekelly.org/event/morning-sketch-4/2026-10-23/
LOCATION:The Kelly Fitzpatrick Center for the Arts\, 301 Hill Street\, Wetumpka\, AL\, 36092
CATEGORIES:Adult Programs
ATTACH;FMTTYPE=image/webp:https://thekelly.org/wp-content/uploads/2024/03/Morning-Sketch-4-e1737670831822.webp
END:VEVENT
BEGIN:VEVENT
DTSTART;TZID=America/Chicago:20261027T160000
DTEND;TZID=America/Chicago:20261027T170000
DTSTAMP:20260422T032418
CREATED:20260331T171621Z
LAST-MODIFIED:20260331T171622Z
UID:10001456-1793116800-1793120400@thekelly.org
SUMMARY:Kelly's Kids Town: School-Age Art Program
DESCRIPTION:Designed for school-age children\, Kelly’s Kids Town is an arts-and-crafts program where we provide the supplies and activities at no charge. No pre-registration necessary\, just join us every fourth Tuesday of the month! Kids just need to bring to their imaginations (and maybe some clothes they can get messy in)! \n** 2026 Change:  Changed from the 4th Thursday to the 4th Tuesday
URL:https://thekelly.org/event/kellys-kids-town-6-2/2026-10-27/
LOCATION:The Kelly Fitzpatrick Center for the Arts\, 301 Hill Street\, Wetumpka\, AL\, 36092
CATEGORIES:"Kelly's Kids",Children Programs
ATTACH;FMTTYPE=image/png:https://thekelly.org/wp-content/uploads/2026/02/Kids-Town-e1770226366881.png
END:VEVENT
BEGIN:VEVENT
DTSTART;TZID=America/Chicago:20261030T100000
DTEND;TZID=America/Chicago:20261030T130000
DTSTAMP:20260422T032418
CREATED:20250123T222429Z
LAST-MODIFIED:20251223T195635Z
UID:10001053-1793354400-1793365200@thekelly.org
SUMMARY:Morning Sketch
DESCRIPTION:Every Friday\, we invite everyone and anyone to come “sketch” in the gallery and on the porch! New and experienced artists (or authors or craftsmen) alike can pull up a chair\, sit on the porch\, and indulge in the arts. Enjoy fellow artists’ company\, enjoy the view\, and come sketch with us!
URL:https://thekelly.org/event/morning-sketch-4/2026-10-30/
LOCATION:The Kelly Fitzpatrick Center for the Arts\, 301 Hill Street\, Wetumpka\, AL\, 36092
CATEGORIES:Adult Programs
ATTACH;FMTTYPE=image/webp:https://thekelly.org/wp-content/uploads/2024/03/Morning-Sketch-4-e1737670831822.webp
END:VEVENT
BEGIN:VEVENT
DTSTART;TZID=America/Chicago:20261106T100000
DTEND;TZID=America/Chicago:20261106T130000
DTSTAMP:20260422T032418
CREATED:20250123T222429Z
LAST-MODIFIED:20251223T195635Z
UID:10001054-1793959200-1793970000@thekelly.org
SUMMARY:Morning Sketch
DESCRIPTION:Every Friday\, we invite everyone and anyone to come “sketch” in the gallery and on the porch! New and experienced artists (or authors or craftsmen) alike can pull up a chair\, sit on the porch\, and indulge in the arts. Enjoy fellow artists’ company\, enjoy the view\, and come sketch with us!
URL:https://thekelly.org/event/morning-sketch-4/2026-11-06/
LOCATION:The Kelly Fitzpatrick Center for the Arts\, 301 Hill Street\, Wetumpka\, AL\, 36092
CATEGORIES:Adult Programs
ATTACH;FMTTYPE=image/webp:https://thekelly.org/wp-content/uploads/2024/03/Morning-Sketch-4-e1737670831822.webp
END:VEVENT
BEGIN:VEVENT
DTSTART;TZID=America/Chicago:20261113T100000
DTEND;TZID=America/Chicago:20261113T130000
DTSTAMP:20260422T032418
CREATED:20250123T222429Z
LAST-MODIFIED:20251223T195635Z
UID:10001055-1794564000-1794574800@thekelly.org
SUMMARY:Morning Sketch
DESCRIPTION:Every Friday\, we invite everyone and anyone to come “sketch” in the gallery and on the porch! New and experienced artists (or authors or craftsmen) alike can pull up a chair\, sit on the porch\, and indulge in the arts. Enjoy fellow artists’ company\, enjoy the view\, and come sketch with us!
URL:https://thekelly.org/event/morning-sketch-4/2026-11-13/
LOCATION:The Kelly Fitzpatrick Center for the Arts\, 301 Hill Street\, Wetumpka\, AL\, 36092
CATEGORIES:Adult Programs
ATTACH;FMTTYPE=image/webp:https://thekelly.org/wp-content/uploads/2024/03/Morning-Sketch-4-e1737670831822.webp
END:VEVENT
BEGIN:VEVENT
DTSTART;TZID=America/Chicago:20261117T120000
DTEND;TZID=America/Chicago:20261117T130000
DTSTAMP:20260422T032418
CREATED:20260204T173942Z
LAST-MODIFIED:20260204T173942Z
UID:10001468-1794916800-1794920400@thekelly.org
SUMMARY:Tuesdays with Kelly
DESCRIPTION:Join us for our monthly lunch and learn program from noon until 1:00pm at The Kelly.  Learn more about this month’s program at https://thekelly.org/twk/ \nBring your lunch\, and The Kelly will provide drinks and a dessert.  We hope to see you there!
URL:https://thekelly.org/event/tuesdays-with-kelly-7/2026-11-17/
LOCATION:The Kelly Fitzpatrick Center for the Arts\, 301 Hill Street\, Wetumpka\, AL\, 36092
CATEGORIES:Tuesday with Kelly
ATTACH;FMTTYPE=image/webp:https://thekelly.org/wp-content/uploads/2023/12/TuesdaysWithKelly_Logo-e1709829061227.webp
END:VEVENT
BEGIN:VEVENT
DTSTART;TZID=America/Chicago:20261118T100000
DTEND;TZID=America/Chicago:20261118T110000
DTSTAMP:20260422T032418
CREATED:20260121T173948Z
LAST-MODIFIED:20260121T173948Z
UID:10001438-1794996000-1794999600@thekelly.org
SUMMARY:Art Start: Pre-School Art Program
DESCRIPTION:Art Start is a Kelly’s Kids arts-and-crafts program designed for pre-school children. We provide the supplies at no charge. No need to pre-register\, just have your kiddos bring their imaginations!
URL:https://thekelly.org/event/art-start-5/2026-11-18/
LOCATION:The Kelly Fitzpatrick Center for the Arts\, 301 Hill Street\, Wetumpka\, AL\, 36092
CATEGORIES:"Kelly's Kids",Children Programs
ATTACH;FMTTYPE=image/webp:https://thekelly.org/wp-content/uploads/2026/01/Art-Start-Cover-e1769016962627.webp
END:VEVENT
BEGIN:VEVENT
DTSTART;TZID=America/Chicago:20261120T100000
DTEND;TZID=America/Chicago:20261120T130000
DTSTAMP:20260422T032418
CREATED:20250123T222429Z
LAST-MODIFIED:20251223T195635Z
UID:10001056-1795168800-1795179600@thekelly.org
SUMMARY:Morning Sketch
DESCRIPTION:Every Friday\, we invite everyone and anyone to come “sketch” in the gallery and on the porch! New and experienced artists (or authors or craftsmen) alike can pull up a chair\, sit on the porch\, and indulge in the arts. Enjoy fellow artists’ company\, enjoy the view\, and come sketch with us!
URL:https://thekelly.org/event/morning-sketch-4/2026-11-20/
LOCATION:The Kelly Fitzpatrick Center for the Arts\, 301 Hill Street\, Wetumpka\, AL\, 36092
CATEGORIES:Adult Programs
ATTACH;FMTTYPE=image/webp:https://thekelly.org/wp-content/uploads/2024/03/Morning-Sketch-4-e1737670831822.webp
END:VEVENT
BEGIN:VEVENT
DTSTART;TZID=America/Chicago:20261124T160000
DTEND;TZID=America/Chicago:20261124T170000
DTSTAMP:20260422T032418
CREATED:20260331T171621Z
LAST-MODIFIED:20260331T171622Z
UID:10001457-1795536000-1795539600@thekelly.org
SUMMARY:Kelly's Kids Town: School-Age Art Program
DESCRIPTION:Designed for school-age children\, Kelly’s Kids Town is an arts-and-crafts program where we provide the supplies and activities at no charge. No pre-registration necessary\, just join us every fourth Tuesday of the month! Kids just need to bring to their imaginations (and maybe some clothes they can get messy in)! \n** 2026 Change:  Changed from the 4th Thursday to the 4th Tuesday
URL:https://thekelly.org/event/kellys-kids-town-6-2/2026-11-24/
LOCATION:The Kelly Fitzpatrick Center for the Arts\, 301 Hill Street\, Wetumpka\, AL\, 36092
CATEGORIES:"Kelly's Kids",Children Programs
ATTACH;FMTTYPE=image/png:https://thekelly.org/wp-content/uploads/2026/02/Kids-Town-e1770226366881.png
END:VEVENT
BEGIN:VEVENT
DTSTART;TZID=America/Chicago:20261127T100000
DTEND;TZID=America/Chicago:20261127T130000
DTSTAMP:20260422T032418
CREATED:20250123T222429Z
LAST-MODIFIED:20251223T195635Z
UID:10001057-1795773600-1795784400@thekelly.org
SUMMARY:Morning Sketch
DESCRIPTION:Every Friday\, we invite everyone and anyone to come “sketch” in the gallery and on the porch! New and experienced artists (or authors or craftsmen) alike can pull up a chair\, sit on the porch\, and indulge in the arts. Enjoy fellow artists’ company\, enjoy the view\, and come sketch with us!
URL:https://thekelly.org/event/morning-sketch-4/2026-11-27/
LOCATION:The Kelly Fitzpatrick Center for the Arts\, 301 Hill Street\, Wetumpka\, AL\, 36092
CATEGORIES:Adult Programs
ATTACH;FMTTYPE=image/webp:https://thekelly.org/wp-content/uploads/2024/03/Morning-Sketch-4-e1737670831822.webp
END:VEVENT
BEGIN:VEVENT
DTSTART;TZID=America/Chicago:20261204T100000
DTEND;TZID=America/Chicago:20261204T130000
DTSTAMP:20260422T032418
CREATED:20250123T222429Z
LAST-MODIFIED:20251223T195635Z
UID:10001058-1796378400-1796389200@thekelly.org
SUMMARY:Morning Sketch
DESCRIPTION:Every Friday\, we invite everyone and anyone to come “sketch” in the gallery and on the porch! New and experienced artists (or authors or craftsmen) alike can pull up a chair\, sit on the porch\, and indulge in the arts. Enjoy fellow artists’ company\, enjoy the view\, and come sketch with us!
URL:https://thekelly.org/event/morning-sketch-4/2026-12-04/
LOCATION:The Kelly Fitzpatrick Center for the Arts\, 301 Hill Street\, Wetumpka\, AL\, 36092
CATEGORIES:Adult Programs
ATTACH;FMTTYPE=image/webp:https://thekelly.org/wp-content/uploads/2024/03/Morning-Sketch-4-e1737670831822.webp
END:VEVENT
BEGIN:VEVENT
DTSTART;TZID=America/Chicago:20261211T100000
DTEND;TZID=America/Chicago:20261211T130000
DTSTAMP:20260422T032418
CREATED:20250123T222429Z
LAST-MODIFIED:20251223T195635Z
UID:10001059-1796983200-1796994000@thekelly.org
SUMMARY:Morning Sketch
DESCRIPTION:Every Friday\, we invite everyone and anyone to come “sketch” in the gallery and on the porch! New and experienced artists (or authors or craftsmen) alike can pull up a chair\, sit on the porch\, and indulge in the arts. Enjoy fellow artists’ company\, enjoy the view\, and come sketch with us!
URL:https://thekelly.org/event/morning-sketch-4/2026-12-11/
LOCATION:The Kelly Fitzpatrick Center for the Arts\, 301 Hill Street\, Wetumpka\, AL\, 36092
CATEGORIES:Adult Programs
ATTACH;FMTTYPE=image/webp:https://thekelly.org/wp-content/uploads/2024/03/Morning-Sketch-4-e1737670831822.webp
END:VEVENT
BEGIN:VEVENT
DTSTART;TZID=America/Chicago:20261215T120000
DTEND;TZID=America/Chicago:20261215T130000
DTSTAMP:20260422T032418
CREATED:20260204T173942Z
LAST-MODIFIED:20260204T173942Z
UID:10001469-1797336000-1797339600@thekelly.org
SUMMARY:Tuesdays with Kelly
DESCRIPTION:Join us for our monthly lunch and learn program from noon until 1:00pm at The Kelly.  Learn more about this month’s program at https://thekelly.org/twk/ \nBring your lunch\, and The Kelly will provide drinks and a dessert.  We hope to see you there!
URL:https://thekelly.org/event/tuesdays-with-kelly-7/2026-12-15/
LOCATION:The Kelly Fitzpatrick Center for the Arts\, 301 Hill Street\, Wetumpka\, AL\, 36092
CATEGORIES:Tuesday with Kelly
ATTACH;FMTTYPE=image/webp:https://thekelly.org/wp-content/uploads/2023/12/TuesdaysWithKelly_Logo-e1709829061227.webp
END:VEVENT
BEGIN:VEVENT
DTSTART;TZID=America/Chicago:20261216T100000
DTEND;TZID=America/Chicago:20261216T110000
DTSTAMP:20260422T032418
CREATED:20260121T173948Z
LAST-MODIFIED:20260121T173948Z
UID:10001439-1797415200-1797418800@thekelly.org
SUMMARY:Art Start: Pre-School Art Program
DESCRIPTION:Art Start is a Kelly’s Kids arts-and-crafts program designed for pre-school children. We provide the supplies at no charge. No need to pre-register\, just have your kiddos bring their imaginations!
URL:https://thekelly.org/event/art-start-5/2026-12-16/
LOCATION:The Kelly Fitzpatrick Center for the Arts\, 301 Hill Street\, Wetumpka\, AL\, 36092
CATEGORIES:"Kelly's Kids",Children Programs
ATTACH;FMTTYPE=image/webp:https://thekelly.org/wp-content/uploads/2026/01/Art-Start-Cover-e1769016962627.webp
END:VEVENT
BEGIN:VEVENT
DTSTART;TZID=America/Chicago:20261218T100000
DTEND;TZID=America/Chicago:20261218T130000
DTSTAMP:20260422T032418
CREATED:20250123T222429Z
LAST-MODIFIED:20251223T195635Z
UID:10001060-1797588000-1797598800@thekelly.org
SUMMARY:Morning Sketch
DESCRIPTION:Every Friday\, we invite everyone and anyone to come “sketch” in the gallery and on the porch! New and experienced artists (or authors or craftsmen) alike can pull up a chair\, sit on the porch\, and indulge in the arts. Enjoy fellow artists’ company\, enjoy the view\, and come sketch with us!
URL:https://thekelly.org/event/morning-sketch-4/2026-12-18/
LOCATION:The Kelly Fitzpatrick Center for the Arts\, 301 Hill Street\, Wetumpka\, AL\, 36092
CATEGORIES:Adult Programs
ATTACH;FMTTYPE=image/webp:https://thekelly.org/wp-content/uploads/2024/03/Morning-Sketch-4-e1737670831822.webp
END:VEVENT
END:VCALENDAR