BEGIN:VCALENDAR
VERSION:2.0
PRODID:-//The Kelly - ECPv6.15.20//NONSGML v1.0//EN
CALSCALE:GREGORIAN
METHOD:PUBLISH
X-ORIGINAL-URL:https://thekelly.org
X-WR-CALDESC:Events for The Kelly
REFRESH-INTERVAL;VALUE=DURATION:PT1H
X-Robots-Tag:noindex
X-PUBLISHED-TTL:PT1H
BEGIN:VTIMEZONE
TZID:America/Chicago
BEGIN:DAYLIGHT
TZOFFSETFROM:-0600
TZOFFSETTO:-0500
TZNAME:CDT
DTSTART:20210314T080000
END:DAYLIGHT
BEGIN:STANDARD
TZOFFSETFROM:-0500
TZOFFSETTO:-0600
TZNAME:CST
DTSTART:20211107T070000
END:STANDARD
BEGIN:DAYLIGHT
TZOFFSETFROM:-0600
TZOFFSETTO:-0500
TZNAME:CDT
DTSTART:20220313T080000
END:DAYLIGHT
BEGIN:STANDARD
TZOFFSETFROM:-0500
TZOFFSETTO:-0600
TZNAME:CST
DTSTART:20221106T070000
END:STANDARD
BEGIN:DAYLIGHT
TZOFFSETFROM:-0600
TZOFFSETTO:-0500
TZNAME:CDT
DTSTART:20230312T080000
END:DAYLIGHT
BEGIN:STANDARD
TZOFFSETFROM:-0500
TZOFFSETTO:-0600
TZNAME:CST
DTSTART:20231105T070000
END:STANDARD
END:VTIMEZONE
BEGIN:VEVENT
DTSTART;TZID=America/Chicago:20221210T070000
DTEND;TZID=America/Chicago:20221210T200000
DTSTAMP:20260424T224407
CREATED:20220914T200445Z
LAST-MODIFIED:20220914T201051Z
UID:10000632-1670655600-1670702400@thekelly.org
SUMMARY:Christmas on the Coosa - December 10th
DESCRIPTION:The City of Wetumpka is heading their annual Christmas on the Coosa celebration with so many fun things to do. This will be the 50th annual Christmas on the Coosa\, and we couldn’t be more excited for it!  Visit us downtime during the festivities; we’ll see you there! \nSchedule of Events:\n7:30am:  Character Breakfast (first session)\n9:30am:  Character Breakfast  (second session)\nNoon – 3:00pm:  Antique Car Show\nNoon – Rest of the day:  Food\, art\, and crafts vendors\n6:00pm:  Christmas Night Parade\n7:00pm:  Santa will ski across the Coosa River\nEnd of Night:  Fireworks show
URL:https://thekelly.org/event/christmas-on-the-coosa-december-10th/
CATEGORIES:Special Events
ATTACH;FMTTYPE=image/jpeg:https://thekelly.org/wp-content/uploads/2022/09/2022-logo-300x275-1.jpg
END:VEVENT
END:VCALENDAR