BEGIN:VCALENDAR
VERSION:2.0
PRODID:-//The Kelly - ECPv6.15.20//NONSGML v1.0//EN
CALSCALE:GREGORIAN
METHOD:PUBLISH
X-WR-CALNAME:The Kelly
X-ORIGINAL-URL:https://thekelly.org
X-WR-CALDESC:Events for The Kelly
REFRESH-INTERVAL;VALUE=DURATION:PT1H
X-Robots-Tag:noindex
X-PUBLISHED-TTL:PT1H
BEGIN:VTIMEZONE
TZID:America/Chicago
BEGIN:DAYLIGHT
TZOFFSETFROM:-0600
TZOFFSETTO:-0500
TZNAME:CDT
DTSTART:20210314T080000
END:DAYLIGHT
BEGIN:STANDARD
TZOFFSETFROM:-0500
TZOFFSETTO:-0600
TZNAME:CST
DTSTART:20211107T070000
END:STANDARD
BEGIN:DAYLIGHT
TZOFFSETFROM:-0600
TZOFFSETTO:-0500
TZNAME:CDT
DTSTART:20220313T080000
END:DAYLIGHT
BEGIN:STANDARD
TZOFFSETFROM:-0500
TZOFFSETTO:-0600
TZNAME:CST
DTSTART:20221106T070000
END:STANDARD
BEGIN:DAYLIGHT
TZOFFSETFROM:-0600
TZOFFSETTO:-0500
TZNAME:CDT
DTSTART:20230312T080000
END:DAYLIGHT
BEGIN:STANDARD
TZOFFSETFROM:-0500
TZOFFSETTO:-0600
TZNAME:CST
DTSTART:20231105T070000
END:STANDARD
END:VTIMEZONE
BEGIN:VEVENT
DTSTART;TZID=America/Chicago:20220913T120000
DTEND;TZID=America/Chicago:20220913T130000
DTSTAMP:20260421T121446
CREATED:20220901T145857Z
LAST-MODIFIED:20220910T194724Z
UID:10000606-1663070400-1663074000@thekelly.org
SUMMARY:The Life and Times of Kelly Fitzpatrick - TWK September 13th
DESCRIPTION:Join Kelly members for two special Tuesday with Kelly events in September! \nFor this September 13th Lunch-and-Learn from noon until 1:00pm\, come hear June Carpenter\, retired teacher and historian\, share stories and background about John Kelly Fitzpatrick himself. \nBring your lunch\, and the Kelly will provide water and dessert.
URL:https://thekelly.org/event/september-13th-the-life-and-times-of-kelly-fitzpatrick/
LOCATION:The Kelly Fitzpatrick Center for the Arts\, 301 Hill Street\, Wetumpka\, AL\, 36092
CATEGORIES:Tuesday with Kelly
ATTACH;FMTTYPE=image/jpeg:https://thekelly.org/wp-content/uploads/2021/03/twk.jpg
END:VEVENT
END:VCALENDAR