BEGIN:VCALENDAR
VERSION:2.0
PRODID:-//The Kelly - ECPv6.15.20//NONSGML v1.0//EN
CALSCALE:GREGORIAN
METHOD:PUBLISH
X-ORIGINAL-URL:https://thekelly.org
X-WR-CALDESC:Events for The Kelly
REFRESH-INTERVAL;VALUE=DURATION:PT1H
X-Robots-Tag:noindex
X-PUBLISHED-TTL:PT1H
BEGIN:VTIMEZONE
TZID:America/Chicago
BEGIN:DAYLIGHT
TZOFFSETFROM:-0600
TZOFFSETTO:-0500
TZNAME:CDT
DTSTART:20240310T080000
END:DAYLIGHT
BEGIN:STANDARD
TZOFFSETFROM:-0500
TZOFFSETTO:-0600
TZNAME:CST
DTSTART:20241103T070000
END:STANDARD
BEGIN:DAYLIGHT
TZOFFSETFROM:-0600
TZOFFSETTO:-0500
TZNAME:CDT
DTSTART:20250309T080000
END:DAYLIGHT
BEGIN:STANDARD
TZOFFSETFROM:-0500
TZOFFSETTO:-0600
TZNAME:CST
DTSTART:20251102T070000
END:STANDARD
BEGIN:DAYLIGHT
TZOFFSETFROM:-0600
TZOFFSETTO:-0500
TZNAME:CDT
DTSTART:20260308T080000
END:DAYLIGHT
BEGIN:STANDARD
TZOFFSETFROM:-0500
TZOFFSETTO:-0600
TZNAME:CST
DTSTART:20261101T070000
END:STANDARD
END:VTIMEZONE
BEGIN:VEVENT
DTSTART;TZID=America/Chicago:20250807T170000
DTEND;TZID=America/Chicago:20250807T190000
DTSTAMP:20260421T101023
CREATED:20250807T144232Z
LAST-MODIFIED:20250807T144232Z
UID:10001379-1754586000-1754593200@thekelly.org
SUMMARY:Opening Reception -The Delta Blues: Clint Herring Watercolors & Kelly's Own Artists
DESCRIPTION:Join us for our opening reception for a dual-exhibition\, showing Clint Herring’s amazing lifelike watercolor series “The Delta Blues” and our Artist Associates member exhibition show! Enjoy snacks\, drinks\, meet the artists\, and enjoy these truly marvelous works of art!
URL:https://thekelly.org/event/delta-blues-reception/
LOCATION:The Kelly Fitzpatrick Center for the Arts\, 301 Hill Street\, Wetumpka\, AL\, 36092
CATEGORIES:Exhibition Reception
ATTACH;FMTTYPE=image/png:https://thekelly.org/wp-content/uploads/2025/08/Clint-Kellys-Own-e1754577719988.png
END:VEVENT
END:VCALENDAR