BEGIN:VCALENDAR
VERSION:2.0
PRODID:-//The Kelly - ECPv6.15.20//NONSGML v1.0//EN
CALSCALE:GREGORIAN
METHOD:PUBLISH
X-WR-CALNAME:The Kelly
X-ORIGINAL-URL:https://thekelly.org
X-WR-CALDESC:Events for The Kelly
REFRESH-INTERVAL;VALUE=DURATION:PT1H
X-Robots-Tag:noindex
X-PUBLISHED-TTL:PT1H
BEGIN:VTIMEZONE
TZID:America/Chicago
BEGIN:DAYLIGHT
TZOFFSETFROM:-0600
TZOFFSETTO:-0500
TZNAME:CDT
DTSTART:20220313T080000
END:DAYLIGHT
BEGIN:STANDARD
TZOFFSETFROM:-0500
TZOFFSETTO:-0600
TZNAME:CST
DTSTART:20221106T070000
END:STANDARD
BEGIN:DAYLIGHT
TZOFFSETFROM:-0600
TZOFFSETTO:-0500
TZNAME:CDT
DTSTART:20230312T080000
END:DAYLIGHT
BEGIN:STANDARD
TZOFFSETFROM:-0500
TZOFFSETTO:-0600
TZNAME:CST
DTSTART:20231105T070000
END:STANDARD
BEGIN:DAYLIGHT
TZOFFSETFROM:-0600
TZOFFSETTO:-0500
TZNAME:CDT
DTSTART:20240310T080000
END:DAYLIGHT
BEGIN:STANDARD
TZOFFSETFROM:-0500
TZOFFSETTO:-0600
TZNAME:CST
DTSTART:20241103T070000
END:STANDARD
END:VTIMEZONE
BEGIN:VEVENT
DTSTART;VALUE=DATE:20230110
DTEND;VALUE=DATE:20230311
DTSTAMP:20260423T181504
CREATED:20221210T214218Z
LAST-MODIFIED:20221230T192728Z
UID:10000727-1673308800-1678492799@thekelly.org
SUMMARY:Chromatics: A Celebration of African-American Art
DESCRIPTION:The Kelly invites you to join us for another wonderful art exhibition\, this time showcasing our local and regional African-American artists.  Alabama (and the South) is a kaleidoscope of life and legacies\, and we are excited to highlight these amazing contemporary artists. \nWe’ll also have a sub-exhibit of art commemorating prominent African-American legends and leaders to celebrate black excellence throughout history as well as in the arts.
URL:https://thekelly.org/event/chromatics/
LOCATION:The Kelly Fitzpatrick Center for the Arts\, 301 Hill Street\, Wetumpka\, AL\, 36092
CATEGORIES:Exhibitions
ATTACH;FMTTYPE=image/webp:https://thekelly.org/wp-content/uploads/2022/12/Chromatics-e1672428441927.webp
END:VEVENT
END:VCALENDAR