BEGIN:VCALENDAR
VERSION:2.0
PRODID:-//The Kelly - ECPv6.15.20//NONSGML v1.0//EN
CALSCALE:GREGORIAN
METHOD:PUBLISH
X-WR-CALNAME:The Kelly
X-ORIGINAL-URL:https://thekelly.org
X-WR-CALDESC:Events for The Kelly
REFRESH-INTERVAL;VALUE=DURATION:PT1H
X-Robots-Tag:noindex
X-PUBLISHED-TTL:PT1H
BEGIN:VTIMEZONE
TZID:America/Chicago
BEGIN:DAYLIGHT
TZOFFSETFROM:-0600
TZOFFSETTO:-0500
TZNAME:CDT
DTSTART:20230312T080000
END:DAYLIGHT
BEGIN:STANDARD
TZOFFSETFROM:-0500
TZOFFSETTO:-0600
TZNAME:CST
DTSTART:20231105T070000
END:STANDARD
BEGIN:DAYLIGHT
TZOFFSETFROM:-0600
TZOFFSETTO:-0500
TZNAME:CDT
DTSTART:20240310T080000
END:DAYLIGHT
BEGIN:STANDARD
TZOFFSETFROM:-0500
TZOFFSETTO:-0600
TZNAME:CST
DTSTART:20241103T070000
END:STANDARD
BEGIN:DAYLIGHT
TZOFFSETFROM:-0600
TZOFFSETTO:-0500
TZNAME:CDT
DTSTART:20250309T080000
END:DAYLIGHT
BEGIN:STANDARD
TZOFFSETFROM:-0500
TZOFFSETTO:-0600
TZNAME:CST
DTSTART:20251102T070000
END:STANDARD
END:VTIMEZONE
BEGIN:VEVENT
DTSTART;TZID=America/Chicago:20241008T100000
DTEND;TZID=America/Chicago:20241008T110000
DTSTAMP:20260422T140720
CREATED:20240920T193424Z
LAST-MODIFIED:20240920T193424Z
UID:10000853-1728381600-1728385200@thekelly.org
SUMMARY:Louise Smith Everton Talk
DESCRIPTION:Come grab a cup of coffee with us and learn about Dixie Art Colonist Louise Smith Everton from her son\, Angus Everton. Louise Everton was a student and dear friend of our namesake John Kelly Fitzpatrick\, and our speaker will discuss their history\, her life\, and share personal anecdotes of his time sitting in both of their studios as a child.
URL:https://thekelly.org/event/louise-smith-everton-talk/
LOCATION:The Kelly Fitzpatrick Center for the Arts\, 301 Hill Street\, Wetumpka\, AL\, 36092
CATEGORIES:Special Events
ATTACH;FMTTYPE=image/webp:https://thekelly.org/wp-content/uploads/2024/09/Angus-e1726860809871.webp
END:VEVENT
END:VCALENDAR