BEGIN:VCALENDAR
VERSION:2.0
PRODID:-//The Kelly - ECPv6.15.20//NONSGML v1.0//EN
CALSCALE:GREGORIAN
METHOD:PUBLISH
X-ORIGINAL-URL:https://thekelly.org
X-WR-CALDESC:Events for The Kelly
REFRESH-INTERVAL;VALUE=DURATION:PT1H
X-Robots-Tag:noindex
X-PUBLISHED-TTL:PT1H
BEGIN:VTIMEZONE
TZID:America/Chicago
BEGIN:DAYLIGHT
TZOFFSETFROM:-0600
TZOFFSETTO:-0500
TZNAME:CDT
DTSTART:20220313T080000
END:DAYLIGHT
BEGIN:STANDARD
TZOFFSETFROM:-0500
TZOFFSETTO:-0600
TZNAME:CST
DTSTART:20221106T070000
END:STANDARD
BEGIN:DAYLIGHT
TZOFFSETFROM:-0600
TZOFFSETTO:-0500
TZNAME:CDT
DTSTART:20230312T080000
END:DAYLIGHT
BEGIN:STANDARD
TZOFFSETFROM:-0500
TZOFFSETTO:-0600
TZNAME:CST
DTSTART:20231105T070000
END:STANDARD
BEGIN:DAYLIGHT
TZOFFSETFROM:-0600
TZOFFSETTO:-0500
TZNAME:CDT
DTSTART:20240310T080000
END:DAYLIGHT
BEGIN:STANDARD
TZOFFSETFROM:-0500
TZOFFSETTO:-0600
TZNAME:CST
DTSTART:20241103T070000
END:STANDARD
END:VTIMEZONE
BEGIN:VEVENT
DTSTART;TZID=America/Chicago:20230204T120000
DTEND;TZID=America/Chicago:20230204T170000
DTSTAMP:20260422T060354
CREATED:20221230T185252Z
LAST-MODIFIED:20230201T184817Z
UID:10000752-1675512000-1675530000@thekelly.org
SUMMARY:Galentine's on Main
DESCRIPTION:The Kelly will be participating in Main Street’s “Galentine’s on Main” event—the ultimate girl’s day! \nCome to The Kelly during Galentines on February 4th to make a bracelet for you and one for your “gal”! Marilyn Winborn of “African Killer Beads” will teach us and provide the beautiful beads! Cost is only $35.00 for supplies\, its like buying one bracelet and getting one for free! \nMarilyn Winborn’s African Killer Beads\nWe are calling all of our girls to spend the day in downtown Wetumpka on February 4\, 2023 for a full day of fun & shopping.  Downtown merchants will be offering deals & discounts for all to enjoy!
URL:https://thekelly.org/event/galentines-on-main/
LOCATION:Historic Downtown Wetumpka\, East Bridge Street\, Wetumpka\, AL\, 36092\, United States
CATEGORIES:Special Events
ATTACH;FMTTYPE=image/jpeg:https://thekelly.org/wp-content/uploads/2022/12/316100697_1829485487403984_300764893613476359_n-e1672426365280.jpg
ORGANIZER;CN="Main Street Wetumpka":MAILTO:info@mainstreetwetumpka.org
END:VEVENT
END:VCALENDAR