BEGIN:VCALENDAR
VERSION:2.0
PRODID:-//The Kelly - ECPv6.15.20//NONSGML v1.0//EN
CALSCALE:GREGORIAN
METHOD:PUBLISH
X-ORIGINAL-URL:https://thekelly.org
X-WR-CALDESC:Events for The Kelly
REFRESH-INTERVAL;VALUE=DURATION:PT1H
X-Robots-Tag:noindex
X-PUBLISHED-TTL:PT1H
BEGIN:VTIMEZONE
TZID:America/Chicago
BEGIN:DAYLIGHT
TZOFFSETFROM:-0600
TZOFFSETTO:-0500
TZNAME:CDT
DTSTART:20240310T080000
END:DAYLIGHT
BEGIN:STANDARD
TZOFFSETFROM:-0500
TZOFFSETTO:-0600
TZNAME:CST
DTSTART:20241103T070000
END:STANDARD
BEGIN:DAYLIGHT
TZOFFSETFROM:-0600
TZOFFSETTO:-0500
TZNAME:CDT
DTSTART:20250309T080000
END:DAYLIGHT
BEGIN:STANDARD
TZOFFSETFROM:-0500
TZOFFSETTO:-0600
TZNAME:CST
DTSTART:20251102T070000
END:STANDARD
BEGIN:DAYLIGHT
TZOFFSETFROM:-0600
TZOFFSETTO:-0500
TZNAME:CDT
DTSTART:20260308T080000
END:DAYLIGHT
BEGIN:STANDARD
TZOFFSETFROM:-0500
TZOFFSETTO:-0600
TZNAME:CST
DTSTART:20261101T070000
END:STANDARD
BEGIN:DAYLIGHT
TZOFFSETFROM:-0600
TZOFFSETTO:-0500
TZNAME:CDT
DTSTART:20270314T080000
END:DAYLIGHT
BEGIN:STANDARD
TZOFFSETFROM:-0500
TZOFFSETTO:-0600
TZNAME:CST
DTSTART:20271107T070000
END:STANDARD
END:VTIMEZONE
BEGIN:VEVENT
DTSTART;VALUE=DATE:20250902
DTEND;VALUE=DATE:20250916
DTSTAMP:20260421T191652
CREATED:20250912T163822Z
LAST-MODIFIED:20250912T163832Z
UID:10001384-1756771200-1757980799@thekelly.org
SUMMARY:Closed for Exhibition Change
DESCRIPTION:Pardon us as we change to the next exhibition! Thank you so much for your patience and understanding. See you soon!
URL:https://thekelly.org/event/closed-for-exhibition-change-3/
LOCATION:AL
CATEGORIES:Gallery Closed
ATTACH;FMTTYPE=image/webp:https://thekelly.org/wp-content/uploads/2024/03/Exhibition-Change-1-e1730833794859.webp
END:VEVENT
BEGIN:VEVENT
DTSTART;TZID=America/Chicago:20250904T130000
DTEND;TZID=America/Chicago:20250904T150000
DTSTAMP:20260421T191652
CREATED:20250625T192648Z
LAST-MODIFIED:20250904T175406Z
UID:10001135-1756990800-1756998000@thekelly.org
SUMMARY:Art of Service Closing Reception
DESCRIPTION:** VENUE CHANGE ** \nDue to security changes on Maxwell\, the reception has been moved to Forresters at:\n219 Hill Street\, Wetumpka\, AL 36092 \nJoin The Kelly at the Air University Library to meet the artists of the Art of Service exhibition and enjoy some light refreshments along with art! \nThe Kelly is honored to collaborate with The Air University Academic Services to host the second annual “Art of Service” art show in 2025. This year\, local artists reflect on the Air Force’s new tagline; “Innovate\, Accelerate\, and Thrive”. Within brush strokes and camera lens\, artists emphasize life within the Air Force through Air Force technologies (“innovate”)\, aircraft (“accelerate”)\, and service members and their families (“thrive”). \nIf you would like to join us for this event\, you will need to have base access. If you do not already have on-base access\, you can reach out to The Kelly for assistance with getting base access. We hope to see you there!
URL:https://thekelly.org/event/art-of-service-closing-reception/
LOCATION:219 Hill Street\, Wetumpka AL 36092
CATEGORIES:Exhibition Reception,Exhibitions
ATTACH;FMTTYPE=image/jpeg:https://thekelly.org/wp-content/uploads/2025/06/Website-Facebook-Event-Covers29-e1756491296260.jpg
END:VEVENT
BEGIN:VEVENT
DTSTART;VALUE=DATE:20250916
DTEND;VALUE=DATE:20251109
DTSTAMP:20260421T191652
CREATED:20250912T165115Z
LAST-MODIFIED:20250912T170459Z
UID:10001385-1757980800-1762646399@thekelly.org
SUMMARY:Alabama Wildlife Fine Arts Competition & Art Gone Wild Exhibitions
DESCRIPTION:The “Alabama Wildlife Fine Arts Competition” and “Art Gone Wild” are our annual Wildlife Art Exhibitions every fall\, and we celebrate the end of the art exhibition with our Wetumpka Wildlife Arts Festival! Enjoy wildlife art of all kinds\, learn about these amazing Southeastern artists\, and keep an eye out for our schedule of upcoming demonstrations and workshops! \n<< See More Details Here >>
URL:https://thekelly.org/event/awfac-agw-exhibits/
LOCATION:The Kelly Fitzpatrick Center for the Arts\, 301 Hill Street\, Wetumpka\, AL\, 36092
CATEGORIES:Exhibitions
ATTACH;FMTTYPE=image/png:https://thekelly.org/wp-content/uploads/2025/09/AGW-Website-Cover-e1757695795935.png
END:VEVENT
BEGIN:VEVENT
DTSTART;TZID=America/Chicago:20250918T170000
DTEND;TZID=America/Chicago:20250918T190000
DTSTAMP:20260421T191652
CREATED:20250912T170318Z
LAST-MODIFIED:20250912T170318Z
UID:10001386-1758214800-1758222000@thekelly.org
SUMMARY:Opening Reception for "Alabama Wildlife Fine Art Competition" & "Art Gone Wild"
DESCRIPTION:Come celebrate the native beauty of the South with us!  The Alabama Wildlife Fine Art Competition and “Art Gone Wild”  are our annual wildlife art exhibitions every fall\, and our incredibly talented regional artists have packed the gallery full of incredible wildlife art. Please join us for delicious food\, drinks\, great conversation\, take a guess at which artworks might win the Competition\, and just enjoy the wonderful art and meet the artists. \n\nLearn more about the exhibit here!
URL:https://thekelly.org/event/agw-2025-reception/
LOCATION:The Kelly Fitzpatrick Center for the Arts\, 301 Hill Street\, Wetumpka\, AL\, 36092
CATEGORIES:Exhibition Reception
ATTACH;FMTTYPE=image/png:https://thekelly.org/wp-content/uploads/2025/09/Opening-Reception-Cover-e1757696590500.png
END:VEVENT
BEGIN:VEVENT
DTSTART;VALUE=DATE:20251121
DTEND;VALUE=DATE:20251225
DTSTAMP:20260421T191652
CREATED:20251119T165734Z
LAST-MODIFIED:20251119T165734Z
UID:10001397-1763683200-1766620799@thekelly.org
SUMMARY:Artists' Holiday Market
DESCRIPTION:As the holidays get closer\, join us for our annual Kelly Artists’ Market! \nLocal and regional artists of all different kinds are offering unique artworks and craftsmanship that truly make one-of-a-kind gifts for your loved ones. The Artists’ Market will also coincide with Wetumpka’s Christmas events\, like Dicken’s Downtown Christmas Celebration and Christmas on the Coosa. So there will be much to see and much to do! Come stop by and support your local artists—and surprise your family and friends with heartfelt originals.
URL:https://thekelly.org/event/artists-holiday-market/
LOCATION:The Kelly Fitzpatrick Center for the Arts\, 301 Hill Street\, Wetumpka\, AL\, 36092
CATEGORIES:Exhibitions
ATTACH;FMTTYPE=image/png:https://thekelly.org/wp-content/uploads/2025/11/Holiday-Market-Event-Cover-e1763571437976.png
END:VEVENT
BEGIN:VEVENT
DTSTART;VALUE=DATE:20251127
DTEND;VALUE=DATE:20251128
DTSTAMP:20260421T191652
CREATED:20251124T191718Z
LAST-MODIFIED:20251124T191718Z
UID:10001398-1764201600-1764287999@thekelly.org
SUMMARY:CLOSED for the Holiday
DESCRIPTION:Happy Thanksgiving to everyone!  We will be closed for the holiday; thank you for your understanding!
URL:https://thekelly.org/event/closed-for-the-holiday-4/
LOCATION:AL
CATEGORIES:Gallery Closed
ATTACH;FMTTYPE=image/webp:https://thekelly.org/wp-content/uploads/2025/11/Closed-e1764011807610.webp
END:VEVENT
BEGIN:VEVENT
DTSTART;VALUE=DATE:20251224
DTEND;VALUE=DATE:20251225
DTSTAMP:20260421T191652
CREATED:20251124T192853Z
LAST-MODIFIED:20251124T192853Z
UID:10001402-1766534400-1766620799@thekelly.org
SUMMARY:Last Day of Holiday Artist Market
DESCRIPTION:It’s the last day of our Holiday Artist Market! Need that last minute gift? Come grab some really exquisite artworks and artisan crafts made by our local and regional talents!
URL:https://thekelly.org/event/last-day-of-holiday-artist-market-2/
LOCATION:The Kelly Fitzpatrick Center for the Arts\, 301 Hill Street\, Wetumpka\, AL\, 36092
CATEGORIES:Exhibition Closes
ATTACH;FMTTYPE=image/png:https://thekelly.org/wp-content/uploads/2025/11/Holiday-Market-Event-Cover-e1763571437976.png
END:VEVENT
BEGIN:VEVENT
DTSTART;VALUE=DATE:20251225
DTEND;VALUE=DATE:20251226
DTSTAMP:20260421T191652
CREATED:20251124T192723Z
LAST-MODIFIED:20251124T192723Z
UID:10001401-1766620800-1766707199@thekelly.org
SUMMARY:CLOSED for the Holiday
DESCRIPTION:The Kelly will be closed for the holidays. Thank you so much for your patience and understanding!
URL:https://thekelly.org/event/closed-for-the-holiday-5/
LOCATION:AL
CATEGORIES:Gallery Closed
ATTACH;FMTTYPE=image/webp:https://thekelly.org/wp-content/uploads/2025/11/Closed-for-Holiday-e1764012433329.webp
END:VEVENT
BEGIN:VEVENT
DTSTART;VALUE=DATE:20251226
DTEND;VALUE=DATE:20260113
DTSTAMP:20260421T191652
CREATED:20251124T192257Z
LAST-MODIFIED:20251124T192257Z
UID:10001400-1766707200-1768262399@thekelly.org
SUMMARY:CLOSED for Exhibition Change
DESCRIPTION:Pardon us as we change to the next exhibition! Thank you so much for your patience and understanding. See you soon!
URL:https://thekelly.org/event/closed-for-exhibition-change-4/
LOCATION:AL
CATEGORIES:Gallery Closed
ATTACH;FMTTYPE=image/webp:https://thekelly.org/wp-content/uploads/2024/03/Exhibition-Change-1-e1730833794859.webp
END:VEVENT
BEGIN:VEVENT
DTSTART;VALUE=DATE:20260113
DTEND;VALUE=DATE:20260228
DTSTAMP:20260421T191652
CREATED:20251124T195413Z
LAST-MODIFIED:20251124T195413Z
UID:10001404-1768262400-1772236799@thekelly.org
SUMMARY:"Art in Bloom" Art Exhibition
DESCRIPTION:Outside may be cold and grey\, but at The Kelly\, art is in bloom! We invite artists and collectors alike to let your creativity sprout in an art exhibition flush with the blossoms and buds of florals\, flowers\, botanicals\, and everything that “blooms”. We welcome still lives\, wildflower fields\, bouquets\, or even creative interpretations on flowers and blooms.
URL:https://thekelly.org/event/art-in-bloom/
LOCATION:The Kelly Fitzpatrick Center for the Arts\, 301 Hill Street\, Wetumpka\, AL\, 36092
CATEGORIES:Exhibitions
ATTACH;FMTTYPE=image/webp:https://thekelly.org/wp-content/uploads/2025/11/Art-in-Bloom-Cover.webp
END:VEVENT
BEGIN:VEVENT
DTSTART;TZID=America/Chicago:20260115T170000
DTEND;TZID=America/Chicago:20260115T190000
DTSTAMP:20260421T191652
CREATED:20251124T195922Z
LAST-MODIFIED:20251124T195922Z
UID:10001405-1768496400-1768503600@thekelly.org
SUMMARY:"Art in Bloom" Opening Reception
DESCRIPTION:Join us for our opening reception for “Art in Bloom”\, an art exhibition sprouting with the blossoms and buds of florals\, flowers\, botanicals\, and everything that “blooms”! Anyone and everyone is invited to enjoy snacks\, drinks\, meet the artists\, and enjoy these truly marvelous works of art!
URL:https://thekelly.org/event/art-in-bloom-opening-reception/
LOCATION:The Kelly Fitzpatrick Center for the Arts\, 301 Hill Street\, Wetumpka\, AL\, 36092
CATEGORIES:Exhibition Opening
ATTACH;FMTTYPE=image/webp:https://thekelly.org/wp-content/uploads/2025/11/Opening-Reception-e1764014336398.webp
END:VEVENT
BEGIN:VEVENT
DTSTART;VALUE=DATE:20260228
DTEND;VALUE=DATE:20260308
DTSTAMP:20260421T191652
CREATED:20260204T174138Z
LAST-MODIFIED:20260204T174138Z
UID:10001470-1772236800-1772927999@thekelly.org
SUMMARY:CLOSED for Exhibit Change
DESCRIPTION:Pardon us as we change to the next exhibition! Thank you so much for your patience and understanding. See you soon!
URL:https://thekelly.org/event/closed-for-exhibit-change/
LOCATION:AL
CATEGORIES:Gallery Closed
ATTACH;FMTTYPE=image/webp:https://thekelly.org/wp-content/uploads/2024/03/Exhibition-Change-1-e1730833794859.webp
END:VEVENT
BEGIN:VEVENT
DTSTART;VALUE=DATE:20260308
DTEND;VALUE=DATE:20260404
DTSTAMP:20260421T191652
CREATED:20260206T170720Z
LAST-MODIFIED:20260206T170743Z
UID:10001472-1772928000-1775260799@thekelly.org
SUMMARY:Elmore County Art Guild Exhibition
DESCRIPTION:Since 1985\, the Elmore County Art Guild (ECAG) Annual Show has showcased and rewarded the finest artists in our region.  Come join us for their judged members’ show\, featuring the talented artists right here in Elmore County!
URL:https://thekelly.org/event/elmore-county-art-guild/
LOCATION:The Kelly Fitzpatrick Center for the Arts\, 301 Hill Street\, Wetumpka\, AL\, 36092
CATEGORIES:Exhibitions
ATTACH;FMTTYPE=image/webp:https://thekelly.org/wp-content/uploads/2026/02/Updated-ECAG-Cover-e1770397558690.webp
END:VEVENT
BEGIN:VEVENT
DTSTART;VALUE=DATE:20260404
DTEND;VALUE=DATE:20260418
DTSTAMP:20260421T191652
CREATED:20260331T161609Z
LAST-MODIFIED:20260331T161609Z
UID:10001486-1775260800-1776470399@thekelly.org
SUMMARY:CLOSED for Exhibition Change
DESCRIPTION:Pardon us as we change to the next exhibition! Thank you so much for your patience and understanding. See you soon!
URL:https://thekelly.org/event/closed-for-exhibition-change-5/
LOCATION:The Kelly Fitzpatrick Center for the Arts\, 301 Hill Street\, Wetumpka\, AL\, 36092
CATEGORIES:Gallery Closed
ATTACH;FMTTYPE=image/webp:https://thekelly.org/wp-content/uploads/2024/03/Exhibition-Change-1-e1730833794859.webp
END:VEVENT
BEGIN:VEVENT
DTSTART;VALUE=DATE:20260418
DTEND;VALUE=DATE:20260517
DTSTAMP:20260421T191652
CREATED:20260331T164308Z
LAST-MODIFIED:20260331T164308Z
UID:10001487-1776470400-1778975999@thekelly.org
SUMMARY:The Kelly's Own
DESCRIPTION:Join the Kelly in appreciating our Artist Associates members and the wonderful art they create through this upcoming exhibition! We will be showcasing their work throughout most of the gallery in this double-exhibition with “Artful Discoveries”. Be sure to come see this exhibit at The Kelly!
URL:https://thekelly.org/event/the-kellys-own-2/
LOCATION:The Kelly Fitzpatrick Center for the Arts\, 301 Hill Street\, Wetumpka\, AL\, 36092
CATEGORIES:Exhibitions
ATTACH;FMTTYPE=image/png:https://thekelly.org/wp-content/uploads/2026/03/Kellys-Own-Event-Cover-e1774975321312.webp
END:VEVENT
BEGIN:VEVENT
DTSTART;VALUE=DATE:20260418
DTEND;VALUE=DATE:20260517
DTSTAMP:20260421T191652
CREATED:20260331T165940Z
LAST-MODIFIED:20260331T165940Z
UID:10001488-1776470400-1778975999@thekelly.org
SUMMARY:Artful Discoveries: Elmore County High School Student Art Show
DESCRIPTION:Every year\, the Kelly works together with local Elmore County high school educators for our annual Student Art Show.  Come celebrate these amazing young artists as they take the opportunity to express their creativity and exhibit their art for the community.  We aim to inspire Elmore County students to foster their artistic potential and pursue their creative talents beyond the classroom. Family\, friends\, and the public are all invited to come appreciate the artistic achievements the students of Elmore County!
URL:https://thekelly.org/event/artful-discoveries-2/
LOCATION:The Kelly Fitzpatrick Center for the Arts\, 301 Hill Street\, Wetumpka\, AL\, 36092
CATEGORIES:Exhibitions
ATTACH;FMTTYPE=image/webp:https://thekelly.org/wp-content/uploads/2026/03/2026-Artful-Discoveries-Cover.webp
END:VEVENT
BEGIN:VEVENT
DTSTART;TZID=America/Chicago:20260419T140000
DTEND;TZID=America/Chicago:20260419T160000
DTSTAMP:20260421T191652
CREATED:20260331T170541Z
LAST-MODIFIED:20260331T170541Z
UID:10001493-1776607200-1776614400@thekelly.org
SUMMARY:"Artful Discoveries" Opening Exhibition Reception
DESCRIPTION:Come join us for free snacks\, drinks\, and appreciate the artistic achievements the students of Elmore County! \nEvery year\, the Kelly works together with local Elmore County high school educators for our annual Student Art Show. Come celebrate these amazing young artists as they take the opportunity to express their creativity and exhibit their art for the community. We aim to inspire Elmore County students to foster their artistic potential and pursue their creative talents beyond the classroom.
URL:https://thekelly.org/event/artful-discoveries-opening-exhibition-reception/
LOCATION:The Kelly Fitzpatrick Center for the Arts\, 301 Hill Street\, Wetumpka\, AL\, 36092
CATEGORIES:Exhibition Opening
ATTACH;FMTTYPE=image/png:https://thekelly.org/wp-content/uploads/2026/03/Artful-Discoveries-Reception-Cover-e1774976712115.png
END:VEVENT
BEGIN:VEVENT
DTSTART;VALUE=DATE:20260516
DTEND;VALUE=DATE:20260602
DTSTAMP:20260421T191652
CREATED:20260331T172048Z
LAST-MODIFIED:20260331T172048Z
UID:10001494-1778889600-1780358399@thekelly.org
SUMMARY:CLOSED for Exhibition Change
DESCRIPTION:Pardon us as we change to the next exhibition! Thank you so much for your patience and understanding. See you soon!
URL:https://thekelly.org/event/closed-for-exhibition-change-6/
LOCATION:The Kelly Fitzpatrick Center for the Arts\, 301 Hill Street\, Wetumpka\, AL\, 36092
CATEGORIES:Gallery Closed
ATTACH;FMTTYPE=image/webp:https://thekelly.org/wp-content/uploads/2024/03/Exhibition-Change-1-e1730833794859.webp
END:VEVENT
END:VCALENDAR