BEGIN:VCALENDAR
VERSION:2.0
PRODID:-//The Kelly - ECPv6.15.20//NONSGML v1.0//EN
CALSCALE:GREGORIAN
METHOD:PUBLISH
X-WR-CALNAME:The Kelly
X-ORIGINAL-URL:https://thekelly.org
X-WR-CALDESC:Events for The Kelly
REFRESH-INTERVAL;VALUE=DURATION:PT1H
X-Robots-Tag:noindex
X-PUBLISHED-TTL:PT1H
BEGIN:VTIMEZONE
TZID:America/Chicago
BEGIN:DAYLIGHT
TZOFFSETFROM:-0600
TZOFFSETTO:-0500
TZNAME:CDT
DTSTART:20240310T080000
END:DAYLIGHT
BEGIN:STANDARD
TZOFFSETFROM:-0500
TZOFFSETTO:-0600
TZNAME:CST
DTSTART:20241103T070000
END:STANDARD
BEGIN:DAYLIGHT
TZOFFSETFROM:-0600
TZOFFSETTO:-0500
TZNAME:CDT
DTSTART:20250309T080000
END:DAYLIGHT
BEGIN:STANDARD
TZOFFSETFROM:-0500
TZOFFSETTO:-0600
TZNAME:CST
DTSTART:20251102T070000
END:STANDARD
BEGIN:DAYLIGHT
TZOFFSETFROM:-0600
TZOFFSETTO:-0500
TZNAME:CDT
DTSTART:20260308T080000
END:DAYLIGHT
BEGIN:STANDARD
TZOFFSETFROM:-0500
TZOFFSETTO:-0600
TZNAME:CST
DTSTART:20261101T070000
END:STANDARD
END:VTIMEZONE
BEGIN:VEVENT
DTSTART;VALUE=DATE:20250318
DTEND;VALUE=DATE:20250409
DTSTAMP:20260421T175052
CREATED:20250218T183542Z
LAST-MODIFIED:20250218T184107Z
UID:10001092-1742256000-1744156799@thekelly.org
SUMMARY:Elmore County Art Guild 40th Anniversary Show
DESCRIPTION:Since 1985\, the Elmore County Art Guild (ECAG) Annual Show has showcased and rewarded the finest artists in our region.  Come join us for their judged members’ show\, featuring the talented artists right here in Elmore County!
URL:https://thekelly.org/event/elmore-county-art-guild-40th-anniversary-show/
LOCATION:The Kelly Fitzpatrick Center for the Arts\, 301 Hill Street\, Wetumpka\, AL\, 36092
CATEGORIES:Exhibitions
ATTACH;FMTTYPE=image/jpeg:https://thekelly.org/wp-content/uploads/2024/12/Elmore-County-Art-Guild-e1739903609646.jpg
ORGANIZER;CN="The Elmore County Art Guild":MAILTO:libbychr@yahoo.com
END:VEVENT
BEGIN:VEVENT
DTSTART;VALUE=DATE:20250318
DTEND;VALUE=DATE:20250516
DTSTAMP:20260421T175052
CREATED:20250218T185028Z
LAST-MODIFIED:20250221T224724Z
UID:10001093-1742256000-1747353599@thekelly.org
SUMMARY:Louise Smith Everton: A Retrospective
DESCRIPTION:Louise Smith Everton was a prize-winning artist\, diligent art organizer\, and dear friend of many of the Dixie Art Colony artists\, including our namesake John Kelly Fitzpatrick. She was known for painting with the greatest of ease and for encouraging her fellow and newcomer artists alike. She was an active member of many art organizations\, such as the Alabama Art League\, the Watercolor Society of Alabama\, the Southern States Art League\, the Birmingham Museum of Art\, and of course\, the Dixie Art Colony. \nCome join us for a retrospective exhibition honoring her artistic career with her paintings and handwritten letters that her son\, Angus Everton\, generously loaned to The Kelly.
URL:https://thekelly.org/event/louise-smith-everton-a-retrospective/
LOCATION:The Kelly Fitzpatrick Center for the Arts\, 301 Hill Street\, Wetumpka\, AL\, 36092
CATEGORIES:Exhibitions
ATTACH;FMTTYPE=image/webp:https://thekelly.org/wp-content/uploads/2025/02/Website-Facebook-Event-Covers7-e1740178011860.webp
END:VEVENT
END:VCALENDAR