BEGIN:VCALENDAR
VERSION:2.0
PRODID:-//The Kelly - ECPv6.15.20//NONSGML v1.0//EN
CALSCALE:GREGORIAN
METHOD:PUBLISH
X-ORIGINAL-URL:https://thekelly.org
X-WR-CALDESC:Events for The Kelly
REFRESH-INTERVAL;VALUE=DURATION:PT1H
X-Robots-Tag:noindex
X-PUBLISHED-TTL:PT1H
BEGIN:VTIMEZONE
TZID:America/Chicago
BEGIN:DAYLIGHT
TZOFFSETFROM:-0600
TZOFFSETTO:-0500
TZNAME:CDT
DTSTART:20240310T080000
END:DAYLIGHT
BEGIN:STANDARD
TZOFFSETFROM:-0500
TZOFFSETTO:-0600
TZNAME:CST
DTSTART:20241103T070000
END:STANDARD
BEGIN:DAYLIGHT
TZOFFSETFROM:-0600
TZOFFSETTO:-0500
TZNAME:CDT
DTSTART:20250309T080000
END:DAYLIGHT
BEGIN:STANDARD
TZOFFSETFROM:-0500
TZOFFSETTO:-0600
TZNAME:CST
DTSTART:20251102T070000
END:STANDARD
BEGIN:DAYLIGHT
TZOFFSETFROM:-0600
TZOFFSETTO:-0500
TZNAME:CDT
DTSTART:20260308T080000
END:DAYLIGHT
BEGIN:STANDARD
TZOFFSETFROM:-0500
TZOFFSETTO:-0600
TZNAME:CST
DTSTART:20261101T070000
END:STANDARD
END:VTIMEZONE
BEGIN:VEVENT
DTSTART;VALUE=DATE:20250426
DTEND;VALUE=DATE:20250427
DTSTAMP:20260422T123319
CREATED:20250218T182008Z
LAST-MODIFIED:20250218T182008Z
UID:10001088-1745625600-1745711999@thekelly.org
SUMMARY:"Rim of the Pacific" Artist/Collector Applications Due Today
DESCRIPTION:There is a great big world out there\, and for this exhibit The Kelly invites you to explore the other side. The scope is as broad as the boundless Pacific Ocean\, and we are so excited to travel through art and artifacts from California to Japan\, Australia to Chili\, and all the points in-between. Oceans\, islands\, iconic Pacific landmarks\, Pacific cultural histories—you name it! \nApplications to apply for “Rim of the Pacific” are due TODAY!
URL:https://thekelly.org/event/rim-of-the-pacific-artist-collector-applications-due-today/
CATEGORIES:Announcements
ATTACH;FMTTYPE=image/webp:https://thekelly.org/wp-content/uploads/2025/02/Applications-Due-Cover-e1739902898527.webp
END:VEVENT
END:VCALENDAR