BEGIN:VCALENDAR
VERSION:2.0
PRODID:-//The Kelly - ECPv6.15.20//NONSGML v1.0//EN
CALSCALE:GREGORIAN
METHOD:PUBLISH
X-ORIGINAL-URL:https://thekelly.org
X-WR-CALDESC:Events for The Kelly
REFRESH-INTERVAL;VALUE=DURATION:PT1H
X-Robots-Tag:noindex
X-PUBLISHED-TTL:PT1H
BEGIN:VTIMEZONE
TZID:America/Chicago
BEGIN:DAYLIGHT
TZOFFSETFROM:-0600
TZOFFSETTO:-0500
TZNAME:CDT
DTSTART:20250309T080000
END:DAYLIGHT
BEGIN:STANDARD
TZOFFSETFROM:-0500
TZOFFSETTO:-0600
TZNAME:CST
DTSTART:20251102T070000
END:STANDARD
BEGIN:DAYLIGHT
TZOFFSETFROM:-0600
TZOFFSETTO:-0500
TZNAME:CDT
DTSTART:20260308T080000
END:DAYLIGHT
BEGIN:STANDARD
TZOFFSETFROM:-0500
TZOFFSETTO:-0600
TZNAME:CST
DTSTART:20261101T070000
END:STANDARD
BEGIN:DAYLIGHT
TZOFFSETFROM:-0600
TZOFFSETTO:-0500
TZNAME:CDT
DTSTART:20270314T080000
END:DAYLIGHT
BEGIN:STANDARD
TZOFFSETFROM:-0500
TZOFFSETTO:-0600
TZNAME:CST
DTSTART:20271107T070000
END:STANDARD
END:VTIMEZONE
BEGIN:VEVENT
DTSTART;TZID=America/Chicago:20260224T084500
DTEND;TZID=America/Chicago:20260224T120000
DTSTAMP:20260421T173616
CREATED:20260128T193406Z
LAST-MODIFIED:20260128T193406Z
UID:10001445-1771922700-1771934400@thekelly.org
SUMMARY:Field Trip Destination for Elmore County Elementary Schools
DESCRIPTION:The Kelly will be a field trip destination for our Elmore County fourth graders. The Kelly is still open to everyone\, but be prepared for The Kelly to be full to the brim with kiddos!
URL:https://thekelly.org/event/field-trip-destination/2026-02-24/
LOCATION:The Kelly Fitzpatrick Center for the Arts\, 301 Hill Street\, Wetumpka\, AL\, 36092
CATEGORIES:Children Programs
ATTACH;FMTTYPE=image/webp:https://thekelly.org/wp-content/uploads/2026/01/Field-Trip-e1769628671899.webp
END:VEVENT
BEGIN:VEVENT
DTSTART;TZID=America/Chicago:20260224T160000
DTEND;TZID=America/Chicago:20260224T170000
DTSTAMP:20260421T173616
CREATED:20260204T173410Z
LAST-MODIFIED:20260204T173641Z
UID:10001450-1771948800-1771952400@thekelly.org
SUMMARY:Kelly's Kids Town: School-Age Art Program
DESCRIPTION:Designed for school-age children\, Kelly’s Kids Town is an arts-and-crafts program where we provide the supplies and activities at no charge. No pre-registration necessary\, just join us every fourth Thursday of the month! Kids just need to bring to their imaginations (and maybe some clothes they can get messy in)! \n** 2026 Change:  Changed from the 4th Thursday to the 4th Tuesday
URL:https://thekelly.org/event/kellys-kids-town-6/2026-02-24/
LOCATION:The Kelly Fitzpatrick Center for the Arts\, 301 Hill Street\, Wetumpka\, AL\, 36092
CATEGORIES:"Kelly's Kids",Children Programs
ATTACH;FMTTYPE=image/png:https://thekelly.org/wp-content/uploads/2026/02/Kids-Town-e1770226366881.png
END:VEVENT
BEGIN:VEVENT
DTSTART;TZID=America/Chicago:20260225T084500
DTEND;TZID=America/Chicago:20260225T110000
DTSTAMP:20260421T173616
CREATED:20260128T193406Z
LAST-MODIFIED:20260128T193406Z
UID:10001446-1772009100-1772017200@thekelly.org
SUMMARY:Field Trip Destination for Elmore County Elementary Schools
DESCRIPTION:The Kelly will be a field trip destination for our Elmore County fourth graders. The Kelly is still open to everyone\, but be prepared for The Kelly to be full to the brim with kiddos!
URL:https://thekelly.org/event/field-trip-destination/2026-02-25/
LOCATION:The Kelly Fitzpatrick Center for the Arts\, 301 Hill Street\, Wetumpka\, AL\, 36092
CATEGORIES:Children Programs
ATTACH;FMTTYPE=image/webp:https://thekelly.org/wp-content/uploads/2026/01/Field-Trip-e1769628671899.webp
END:VEVENT
BEGIN:VEVENT
DTSTART;TZID=America/Chicago:20260318T100000
DTEND;TZID=America/Chicago:20260318T110000
DTSTAMP:20260421T173616
CREATED:20260121T173948Z
LAST-MODIFIED:20260121T173948Z
UID:10001430-1773828000-1773831600@thekelly.org
SUMMARY:Art Start: Pre-School Art Program
DESCRIPTION:Art Start is a Kelly’s Kids arts-and-crafts program designed for pre-school children. We provide the supplies at no charge. No need to pre-register\, just have your kiddos bring their imaginations!
URL:https://thekelly.org/event/art-start-5/2026-03-18/
LOCATION:The Kelly Fitzpatrick Center for the Arts\, 301 Hill Street\, Wetumpka\, AL\, 36092
CATEGORIES:"Kelly's Kids",Children Programs
ATTACH;FMTTYPE=image/webp:https://thekelly.org/wp-content/uploads/2026/01/Art-Start-Cover-e1769016962627.webp
END:VEVENT
BEGIN:VEVENT
DTSTART;TZID=America/Chicago:20260324T160000
DTEND;TZID=America/Chicago:20260324T170000
DTSTAMP:20260421T173616
CREATED:20260204T173410Z
LAST-MODIFIED:20260204T173641Z
UID:10001451-1774368000-1774371600@thekelly.org
SUMMARY:Kelly's Kids Town: School-Age Art Program
DESCRIPTION:Designed for school-age children\, Kelly’s Kids Town is an arts-and-crafts program where we provide the supplies and activities at no charge. No pre-registration necessary\, just join us every fourth Thursday of the month! Kids just need to bring to their imaginations (and maybe some clothes they can get messy in)! \n** 2026 Change:  Changed from the 4th Thursday to the 4th Tuesday
URL:https://thekelly.org/event/kellys-kids-town-6/2026-03-24/
LOCATION:The Kelly Fitzpatrick Center for the Arts\, 301 Hill Street\, Wetumpka\, AL\, 36092
CATEGORIES:"Kelly's Kids",Children Programs
ATTACH;FMTTYPE=image/png:https://thekelly.org/wp-content/uploads/2026/02/Kids-Town-e1770226366881.png
END:VEVENT
BEGIN:VEVENT
DTSTART;TZID=America/Chicago:20260422T100000
DTEND;TZID=America/Chicago:20260422T110000
DTSTAMP:20260421T173616
CREATED:20260121T173948Z
LAST-MODIFIED:20260121T173948Z
UID:10001431-1776852000-1776855600@thekelly.org
SUMMARY:Art Start: Pre-School Art Program
DESCRIPTION:Art Start is a Kelly’s Kids arts-and-crafts program designed for pre-school children. We provide the supplies at no charge. No need to pre-register\, just have your kiddos bring their imaginations!
URL:https://thekelly.org/event/art-start-5/2026-04-22/
LOCATION:The Kelly Fitzpatrick Center for the Arts\, 301 Hill Street\, Wetumpka\, AL\, 36092
CATEGORIES:"Kelly's Kids",Children Programs
ATTACH;FMTTYPE=image/webp:https://thekelly.org/wp-content/uploads/2026/01/Art-Start-Cover-e1769016962627.webp
END:VEVENT
BEGIN:VEVENT
DTSTART;TZID=America/Chicago:20260428T160000
DTEND;TZID=America/Chicago:20260428T170000
DTSTAMP:20260421T173616
CREATED:20260331T171621Z
LAST-MODIFIED:20260331T171622Z
UID:10001452-1777392000-1777395600@thekelly.org
SUMMARY:Kelly's Kids Town: School-Age Art Program
DESCRIPTION:Designed for school-age children\, Kelly’s Kids Town is an arts-and-crafts program where we provide the supplies and activities at no charge. No pre-registration necessary\, just join us every fourth Tuesday of the month! Kids just need to bring to their imaginations (and maybe some clothes they can get messy in)! \n** 2026 Change:  Changed from the 4th Thursday to the 4th Tuesday
URL:https://thekelly.org/event/kellys-kids-town-6-2/2026-04-28/
LOCATION:The Kelly Fitzpatrick Center for the Arts\, 301 Hill Street\, Wetumpka\, AL\, 36092
CATEGORIES:"Kelly's Kids",Children Programs
ATTACH;FMTTYPE=image/png:https://thekelly.org/wp-content/uploads/2026/02/Kids-Town-e1770226366881.png
END:VEVENT
BEGIN:VEVENT
DTSTART;TZID=America/Chicago:20260513T100000
DTEND;TZID=America/Chicago:20260513T110000
DTSTAMP:20260421T173616
CREATED:20260121T173948Z
LAST-MODIFIED:20260121T173948Z
UID:10001432-1778666400-1778670000@thekelly.org
SUMMARY:Art Start: Pre-School Art Program
DESCRIPTION:Art Start is a Kelly’s Kids arts-and-crafts program designed for pre-school children. We provide the supplies at no charge. No need to pre-register\, just have your kiddos bring their imaginations!
URL:https://thekelly.org/event/art-start-5/2026-05-13/
LOCATION:The Kelly Fitzpatrick Center for the Arts\, 301 Hill Street\, Wetumpka\, AL\, 36092
CATEGORIES:"Kelly's Kids",Children Programs
ATTACH;FMTTYPE=image/webp:https://thekelly.org/wp-content/uploads/2026/01/Art-Start-Cover-e1769016962627.webp
END:VEVENT
BEGIN:VEVENT
DTSTART;TZID=America/Chicago:20260617T100000
DTEND;TZID=America/Chicago:20260617T110000
DTSTAMP:20260421T173616
CREATED:20260121T173948Z
LAST-MODIFIED:20260121T173948Z
UID:10001433-1781690400-1781694000@thekelly.org
SUMMARY:Art Start: Pre-School Art Program
DESCRIPTION:Art Start is a Kelly’s Kids arts-and-crafts program designed for pre-school children. We provide the supplies at no charge. No need to pre-register\, just have your kiddos bring their imaginations!
URL:https://thekelly.org/event/art-start-5/2026-06-17/
LOCATION:The Kelly Fitzpatrick Center for the Arts\, 301 Hill Street\, Wetumpka\, AL\, 36092
CATEGORIES:"Kelly's Kids",Children Programs
ATTACH;FMTTYPE=image/webp:https://thekelly.org/wp-content/uploads/2026/01/Art-Start-Cover-e1769016962627.webp
END:VEVENT
BEGIN:VEVENT
DTSTART;TZID=America/Chicago:20260623T160000
DTEND;TZID=America/Chicago:20260623T170000
DTSTAMP:20260421T173616
CREATED:20260331T171621Z
LAST-MODIFIED:20260331T171622Z
UID:10001453-1782230400-1782234000@thekelly.org
SUMMARY:Kelly's Kids Town: School-Age Art Program
DESCRIPTION:Designed for school-age children\, Kelly’s Kids Town is an arts-and-crafts program where we provide the supplies and activities at no charge. No pre-registration necessary\, just join us every fourth Tuesday of the month! Kids just need to bring to their imaginations (and maybe some clothes they can get messy in)! \n** 2026 Change:  Changed from the 4th Thursday to the 4th Tuesday
URL:https://thekelly.org/event/kellys-kids-town-6-2/2026-06-23/
LOCATION:The Kelly Fitzpatrick Center for the Arts\, 301 Hill Street\, Wetumpka\, AL\, 36092
CATEGORIES:"Kelly's Kids",Children Programs
ATTACH;FMTTYPE=image/png:https://thekelly.org/wp-content/uploads/2026/02/Kids-Town-e1770226366881.png
END:VEVENT
BEGIN:VEVENT
DTSTART;TZID=America/Chicago:20260715T100000
DTEND;TZID=America/Chicago:20260715T110000
DTSTAMP:20260421T173616
CREATED:20260121T173948Z
LAST-MODIFIED:20260121T173948Z
UID:10001434-1784109600-1784113200@thekelly.org
SUMMARY:Art Start: Pre-School Art Program
DESCRIPTION:Art Start is a Kelly’s Kids arts-and-crafts program designed for pre-school children. We provide the supplies at no charge. No need to pre-register\, just have your kiddos bring their imaginations!
URL:https://thekelly.org/event/art-start-5/2026-07-15/
LOCATION:The Kelly Fitzpatrick Center for the Arts\, 301 Hill Street\, Wetumpka\, AL\, 36092
CATEGORIES:"Kelly's Kids",Children Programs
ATTACH;FMTTYPE=image/webp:https://thekelly.org/wp-content/uploads/2026/01/Art-Start-Cover-e1769016962627.webp
END:VEVENT
BEGIN:VEVENT
DTSTART;TZID=America/Chicago:20260728T160000
DTEND;TZID=America/Chicago:20260728T170000
DTSTAMP:20260421T173616
CREATED:20260331T171621Z
LAST-MODIFIED:20260331T171622Z
UID:10001454-1785254400-1785258000@thekelly.org
SUMMARY:Kelly's Kids Town: School-Age Art Program
DESCRIPTION:Designed for school-age children\, Kelly’s Kids Town is an arts-and-crafts program where we provide the supplies and activities at no charge. No pre-registration necessary\, just join us every fourth Tuesday of the month! Kids just need to bring to their imaginations (and maybe some clothes they can get messy in)! \n** 2026 Change:  Changed from the 4th Thursday to the 4th Tuesday
URL:https://thekelly.org/event/kellys-kids-town-6-2/2026-07-28/
LOCATION:The Kelly Fitzpatrick Center for the Arts\, 301 Hill Street\, Wetumpka\, AL\, 36092
CATEGORIES:"Kelly's Kids",Children Programs
ATTACH;FMTTYPE=image/png:https://thekelly.org/wp-content/uploads/2026/02/Kids-Town-e1770226366881.png
END:VEVENT
BEGIN:VEVENT
DTSTART;TZID=America/Chicago:20260819T100000
DTEND;TZID=America/Chicago:20260819T110000
DTSTAMP:20260421T173616
CREATED:20260121T173948Z
LAST-MODIFIED:20260121T173948Z
UID:10001435-1787133600-1787137200@thekelly.org
SUMMARY:Art Start: Pre-School Art Program
DESCRIPTION:Art Start is a Kelly’s Kids arts-and-crafts program designed for pre-school children. We provide the supplies at no charge. No need to pre-register\, just have your kiddos bring their imaginations!
URL:https://thekelly.org/event/art-start-5/2026-08-19/
LOCATION:The Kelly Fitzpatrick Center for the Arts\, 301 Hill Street\, Wetumpka\, AL\, 36092
CATEGORIES:"Kelly's Kids",Children Programs
ATTACH;FMTTYPE=image/webp:https://thekelly.org/wp-content/uploads/2026/01/Art-Start-Cover-e1769016962627.webp
END:VEVENT
BEGIN:VEVENT
DTSTART;TZID=America/Chicago:20260825T160000
DTEND;TZID=America/Chicago:20260825T170000
DTSTAMP:20260421T173616
CREATED:20260331T171621Z
LAST-MODIFIED:20260331T171622Z
UID:10001455-1787673600-1787677200@thekelly.org
SUMMARY:Kelly's Kids Town: School-Age Art Program
DESCRIPTION:Designed for school-age children\, Kelly’s Kids Town is an arts-and-crafts program where we provide the supplies and activities at no charge. No pre-registration necessary\, just join us every fourth Tuesday of the month! Kids just need to bring to their imaginations (and maybe some clothes they can get messy in)! \n** 2026 Change:  Changed from the 4th Thursday to the 4th Tuesday
URL:https://thekelly.org/event/kellys-kids-town-6-2/2026-08-25/
LOCATION:The Kelly Fitzpatrick Center for the Arts\, 301 Hill Street\, Wetumpka\, AL\, 36092
CATEGORIES:"Kelly's Kids",Children Programs
ATTACH;FMTTYPE=image/png:https://thekelly.org/wp-content/uploads/2026/02/Kids-Town-e1770226366881.png
END:VEVENT
BEGIN:VEVENT
DTSTART;TZID=America/Chicago:20260916T100000
DTEND;TZID=America/Chicago:20260916T110000
DTSTAMP:20260421T173616
CREATED:20260121T173948Z
LAST-MODIFIED:20260121T173948Z
UID:10001436-1789552800-1789556400@thekelly.org
SUMMARY:Art Start: Pre-School Art Program
DESCRIPTION:Art Start is a Kelly’s Kids arts-and-crafts program designed for pre-school children. We provide the supplies at no charge. No need to pre-register\, just have your kiddos bring their imaginations!
URL:https://thekelly.org/event/art-start-5/2026-09-16/
LOCATION:The Kelly Fitzpatrick Center for the Arts\, 301 Hill Street\, Wetumpka\, AL\, 36092
CATEGORIES:"Kelly's Kids",Children Programs
ATTACH;FMTTYPE=image/webp:https://thekelly.org/wp-content/uploads/2026/01/Art-Start-Cover-e1769016962627.webp
END:VEVENT
BEGIN:VEVENT
DTSTART;TZID=America/Chicago:20261021T100000
DTEND;TZID=America/Chicago:20261021T110000
DTSTAMP:20260421T173616
CREATED:20260121T173948Z
LAST-MODIFIED:20260121T173948Z
UID:10001437-1792576800-1792580400@thekelly.org
SUMMARY:Art Start: Pre-School Art Program
DESCRIPTION:Art Start is a Kelly’s Kids arts-and-crafts program designed for pre-school children. We provide the supplies at no charge. No need to pre-register\, just have your kiddos bring their imaginations!
URL:https://thekelly.org/event/art-start-5/2026-10-21/
LOCATION:The Kelly Fitzpatrick Center for the Arts\, 301 Hill Street\, Wetumpka\, AL\, 36092
CATEGORIES:"Kelly's Kids",Children Programs
ATTACH;FMTTYPE=image/webp:https://thekelly.org/wp-content/uploads/2026/01/Art-Start-Cover-e1769016962627.webp
END:VEVENT
BEGIN:VEVENT
DTSTART;TZID=America/Chicago:20261027T160000
DTEND;TZID=America/Chicago:20261027T170000
DTSTAMP:20260421T173616
CREATED:20260331T171621Z
LAST-MODIFIED:20260331T171622Z
UID:10001456-1793116800-1793120400@thekelly.org
SUMMARY:Kelly's Kids Town: School-Age Art Program
DESCRIPTION:Designed for school-age children\, Kelly’s Kids Town is an arts-and-crafts program where we provide the supplies and activities at no charge. No pre-registration necessary\, just join us every fourth Tuesday of the month! Kids just need to bring to their imaginations (and maybe some clothes they can get messy in)! \n** 2026 Change:  Changed from the 4th Thursday to the 4th Tuesday
URL:https://thekelly.org/event/kellys-kids-town-6-2/2026-10-27/
LOCATION:The Kelly Fitzpatrick Center for the Arts\, 301 Hill Street\, Wetumpka\, AL\, 36092
CATEGORIES:"Kelly's Kids",Children Programs
ATTACH;FMTTYPE=image/png:https://thekelly.org/wp-content/uploads/2026/02/Kids-Town-e1770226366881.png
END:VEVENT
BEGIN:VEVENT
DTSTART;TZID=America/Chicago:20261118T100000
DTEND;TZID=America/Chicago:20261118T110000
DTSTAMP:20260421T173616
CREATED:20260121T173948Z
LAST-MODIFIED:20260121T173948Z
UID:10001438-1794996000-1794999600@thekelly.org
SUMMARY:Art Start: Pre-School Art Program
DESCRIPTION:Art Start is a Kelly’s Kids arts-and-crafts program designed for pre-school children. We provide the supplies at no charge. No need to pre-register\, just have your kiddos bring their imaginations!
URL:https://thekelly.org/event/art-start-5/2026-11-18/
LOCATION:The Kelly Fitzpatrick Center for the Arts\, 301 Hill Street\, Wetumpka\, AL\, 36092
CATEGORIES:"Kelly's Kids",Children Programs
ATTACH;FMTTYPE=image/webp:https://thekelly.org/wp-content/uploads/2026/01/Art-Start-Cover-e1769016962627.webp
END:VEVENT
BEGIN:VEVENT
DTSTART;TZID=America/Chicago:20261124T160000
DTEND;TZID=America/Chicago:20261124T170000
DTSTAMP:20260421T173616
CREATED:20260331T171621Z
LAST-MODIFIED:20260331T171622Z
UID:10001457-1795536000-1795539600@thekelly.org
SUMMARY:Kelly's Kids Town: School-Age Art Program
DESCRIPTION:Designed for school-age children\, Kelly’s Kids Town is an arts-and-crafts program where we provide the supplies and activities at no charge. No pre-registration necessary\, just join us every fourth Tuesday of the month! Kids just need to bring to their imaginations (and maybe some clothes they can get messy in)! \n** 2026 Change:  Changed from the 4th Thursday to the 4th Tuesday
URL:https://thekelly.org/event/kellys-kids-town-6-2/2026-11-24/
LOCATION:The Kelly Fitzpatrick Center for the Arts\, 301 Hill Street\, Wetumpka\, AL\, 36092
CATEGORIES:"Kelly's Kids",Children Programs
ATTACH;FMTTYPE=image/png:https://thekelly.org/wp-content/uploads/2026/02/Kids-Town-e1770226366881.png
END:VEVENT
BEGIN:VEVENT
DTSTART;TZID=America/Chicago:20261216T100000
DTEND;TZID=America/Chicago:20261216T110000
DTSTAMP:20260421T173616
CREATED:20260121T173948Z
LAST-MODIFIED:20260121T173948Z
UID:10001439-1797415200-1797418800@thekelly.org
SUMMARY:Art Start: Pre-School Art Program
DESCRIPTION:Art Start is a Kelly’s Kids arts-and-crafts program designed for pre-school children. We provide the supplies at no charge. No need to pre-register\, just have your kiddos bring their imaginations!
URL:https://thekelly.org/event/art-start-5/2026-12-16/
LOCATION:The Kelly Fitzpatrick Center for the Arts\, 301 Hill Street\, Wetumpka\, AL\, 36092
CATEGORIES:"Kelly's Kids",Children Programs
ATTACH;FMTTYPE=image/webp:https://thekelly.org/wp-content/uploads/2026/01/Art-Start-Cover-e1769016962627.webp
END:VEVENT
BEGIN:VEVENT
DTSTART;TZID=America/Chicago:20261222T160000
DTEND;TZID=America/Chicago:20261222T170000
DTSTAMP:20260421T173616
CREATED:20260331T171621Z
LAST-MODIFIED:20260331T171622Z
UID:10001458-1797955200-1797958800@thekelly.org
SUMMARY:Kelly's Kids Town: School-Age Art Program
DESCRIPTION:Designed for school-age children\, Kelly’s Kids Town is an arts-and-crafts program where we provide the supplies and activities at no charge. No pre-registration necessary\, just join us every fourth Tuesday of the month! Kids just need to bring to their imaginations (and maybe some clothes they can get messy in)! \n** 2026 Change:  Changed from the 4th Thursday to the 4th Tuesday
URL:https://thekelly.org/event/kellys-kids-town-6-2/2026-12-22/
LOCATION:The Kelly Fitzpatrick Center for the Arts\, 301 Hill Street\, Wetumpka\, AL\, 36092
CATEGORIES:"Kelly's Kids",Children Programs
ATTACH;FMTTYPE=image/png:https://thekelly.org/wp-content/uploads/2026/02/Kids-Town-e1770226366881.png
END:VEVENT
END:VCALENDAR