BEGIN:VCALENDAR
VERSION:2.0
PRODID:-//The Kelly - ECPv6.15.20//NONSGML v1.0//EN
CALSCALE:GREGORIAN
METHOD:PUBLISH
X-WR-CALNAME:The Kelly
X-ORIGINAL-URL:https://thekelly.org
X-WR-CALDESC:Events for The Kelly
REFRESH-INTERVAL;VALUE=DURATION:PT1H
X-Robots-Tag:noindex
X-PUBLISHED-TTL:PT1H
BEGIN:VTIMEZONE
TZID:America/Chicago
BEGIN:DAYLIGHT
TZOFFSETFROM:-0600
TZOFFSETTO:-0500
TZNAME:CDT
DTSTART:20240310T080000
END:DAYLIGHT
BEGIN:STANDARD
TZOFFSETFROM:-0500
TZOFFSETTO:-0600
TZNAME:CST
DTSTART:20241103T070000
END:STANDARD
BEGIN:DAYLIGHT
TZOFFSETFROM:-0600
TZOFFSETTO:-0500
TZNAME:CDT
DTSTART:20250309T080000
END:DAYLIGHT
BEGIN:STANDARD
TZOFFSETFROM:-0500
TZOFFSETTO:-0600
TZNAME:CST
DTSTART:20251102T070000
END:STANDARD
BEGIN:DAYLIGHT
TZOFFSETFROM:-0600
TZOFFSETTO:-0500
TZNAME:CDT
DTSTART:20260308T080000
END:DAYLIGHT
BEGIN:STANDARD
TZOFFSETFROM:-0500
TZOFFSETTO:-0600
TZNAME:CST
DTSTART:20261101T070000
END:STANDARD
END:VTIMEZONE
BEGIN:VEVENT
DTSTART;TZID=America/Chicago:20251217T100000
DTEND;TZID=America/Chicago:20251217T110000
DTSTAMP:20260421T124838
CREATED:20250123T221637Z
LAST-MODIFIED:20250214T203330Z
UID:10000935-1765965600-1765969200@thekelly.org
SUMMARY:Art Start
DESCRIPTION:Art Start is a Kelly’s Kids arts-and-crafts program designed for pre-school children. We provide the supplies at no charge. No need to pre-register\, just have your kiddos bring their imaginations!
URL:https://thekelly.org/event/art-start-4/2025-12-17/
LOCATION:The Kelly Fitzpatrick Center for the Arts\, 301 Hill Street\, Wetumpka\, AL\, 36092
CATEGORIES:"Kelly's Kids",Children Programs
ATTACH;FMTTYPE=image/webp:https://thekelly.org/wp-content/uploads/2025/02/Website-Facebook-Event-Covers1-e1739564634819.webp
END:VEVENT
BEGIN:VEVENT
DTSTART;TZID=America/Chicago:20251218T160000
DTEND;TZID=America/Chicago:20251218T170000
DTSTAMP:20260421T124838
CREATED:20251124T192015Z
LAST-MODIFIED:20251212T223541Z
UID:10001414-1766073600-1766077200@thekelly.org
SUMMARY:Kelly's Kids Town (Holiday Reschedule)
DESCRIPTION:Designed for school-age children\, Kelly’s Kids Town is an arts-and-crafts program where we provide the supplies and activities at no charge. No pre-registration necessary\, just join us every fourth Thursday of the month! Kids just need to bring to their imaginations and clothes they can get messy in!
URL:https://thekelly.org/event/kellys-kids-town-holiday-reschedule/2025-12-18/
LOCATION:The Kelly Fitzpatrick Center for the Arts\, 301 Hill Street\, Wetumpka\, AL\, 36092
CATEGORIES:"Kelly's Kids"
ATTACH;FMTTYPE=image/webp:https://thekelly.org/wp-content/uploads/2024/12/Kids-Town-Date-Change-e1734471492567.webp
END:VEVENT
END:VCALENDAR