BEGIN:VCALENDAR
VERSION:2.0
PRODID:-//The Kelly - ECPv6.15.20//NONSGML v1.0//EN
CALSCALE:GREGORIAN
METHOD:PUBLISH
X-WR-CALNAME:The Kelly
X-ORIGINAL-URL:https://thekelly.org
X-WR-CALDESC:Events for The Kelly
REFRESH-INTERVAL;VALUE=DURATION:PT1H
X-Robots-Tag:noindex
X-PUBLISHED-TTL:PT1H
BEGIN:VTIMEZONE
TZID:America/Chicago
BEGIN:DAYLIGHT
TZOFFSETFROM:-0600
TZOFFSETTO:-0500
TZNAME:CDT
DTSTART:20220313T080000
END:DAYLIGHT
BEGIN:STANDARD
TZOFFSETFROM:-0500
TZOFFSETTO:-0600
TZNAME:CST
DTSTART:20221106T070000
END:STANDARD
BEGIN:DAYLIGHT
TZOFFSETFROM:-0600
TZOFFSETTO:-0500
TZNAME:CDT
DTSTART:20230312T080000
END:DAYLIGHT
BEGIN:STANDARD
TZOFFSETFROM:-0500
TZOFFSETTO:-0600
TZNAME:CST
DTSTART:20231105T070000
END:STANDARD
BEGIN:DAYLIGHT
TZOFFSETFROM:-0600
TZOFFSETTO:-0500
TZNAME:CDT
DTSTART:20240310T080000
END:DAYLIGHT
BEGIN:STANDARD
TZOFFSETFROM:-0500
TZOFFSETTO:-0600
TZNAME:CST
DTSTART:20241103T070000
END:STANDARD
END:VTIMEZONE
BEGIN:VEVENT
DTSTART;TZID=America/Chicago:20231102T160000
DTEND;TZID=America/Chicago:20231102T190000
DTSTAMP:20260425T153530
CREATED:20220910T211052Z
LAST-MODIFIED:20220913T221113Z
UID:10000718-1698940800-1698951600@thekelly.org
SUMMARY:"Kelly's Kids" at Community Market
DESCRIPTION:“Art has the role in education of helping children become like themselves instead of more like everyone else.”\n– Sydney Gurewitz Clemens \nEvery first Thursday of the month\, The Kelly will host a “Kelly’s Kids” arts and crafts activity program during Wetumpka’s Community Market Day.  We provide the supplies at no charge.  Just have your kiddos bring their imaginations! \n  \nFor more information about Community Market\, visit Main Street Wetumpka here.
URL:https://thekelly.org/event/kellys-kids-at-community-market/2023-11-02/
LOCATION:Merchants Alley in Downtown Wetumpka\, 301 Orline St\, Wetumpka\, AL\, 36092
CATEGORIES:"Kelly's Kids",Children Programs
ATTACH;FMTTYPE=image/jpeg:https://thekelly.org/wp-content/uploads/2022/09/Kellys-Kids-small.jpeg
END:VEVENT
END:VCALENDAR